BEGIN:VCALENDAR
VERSION:2.0
PRODID:-//Es Claustre - ECPv6.15.15//NONSGML v1.0//EN
CALSCALE:GREGORIAN
METHOD:PUBLISH
X-ORIGINAL-URL:https://esclaustre.com/en/
X-WR-CALDESC:Events for Es Claustre
REFRESH-INTERVAL;VALUE=DURATION:PT1H
X-Robots-Tag:noindex
X-PUBLISHED-TTL:PT1H
BEGIN:VTIMEZONE
TZID:Europe/Madrid
BEGIN:DAYLIGHT
TZOFFSETFROM:+0100
TZOFFSETTO:+0200
TZNAME:CEST
DTSTART:20240331T010000
END:DAYLIGHT
BEGIN:STANDARD
TZOFFSETFROM:+0200
TZOFFSETTO:+0100
TZNAME:CET
DTSTART:20241027T010000
END:STANDARD
BEGIN:DAYLIGHT
TZOFFSETFROM:+0100
TZOFFSETTO:+0200
TZNAME:CEST
DTSTART:20250330T010000
END:DAYLIGHT
BEGIN:STANDARD
TZOFFSETFROM:+0200
TZOFFSETTO:+0100
TZNAME:CET
DTSTART:20251026T010000
END:STANDARD
BEGIN:DAYLIGHT
TZOFFSETFROM:+0100
TZOFFSETTO:+0200
TZNAME:CEST
DTSTART:20260329T010000
END:DAYLIGHT
BEGIN:STANDARD
TZOFFSETFROM:+0200
TZOFFSETTO:+0100
TZNAME:CET
DTSTART:20261025T010000
END:STANDARD
END:VTIMEZONE
BEGIN:VEVENT
DTSTART;TZID=Europe/Madrid:20250509T210000
DTEND;TZID=Europe/Madrid:20250509T210000
DTSTAMP:20260419T165300
CREATED:20250423T141410Z
LAST-MODIFIED:20250507T165417Z
UID:10006913-1746824400-1746824400@esclaustre.com
SUMMARY:Paul Fuster
DESCRIPTION:«Paul Fuster» emocionats de tenir-lo al Claustre\nPaul Fuster és un músic nord-americà d’origen català amb una trajectòria única\, sempre moguda per la intuïció\, l’honestedat i la llibertat creativa. Fill de pares catalans exiliats\, va créixer als Estats Units i es va formar musicalment a Nova York\, on va participar en diversos projectes experimentals. \n\nDurant els anys 90\, a l’escena alternativa novaiorquesa\, va formar part de bandes de jazz afrocubà i experimentació sonora\, com G Spot Diesel\, on ja destacava per un enfocament lliure i visceral de la música. El seu debut discogràfic com a solista arriba amb: 36 Weeks (1998) Battleship (1999) Happynothing (2002) Tres discos gravats i autoeditats amb una sonoritat crua\, íntima i profundament personal\, que el situen com una veu inclassificable dins l’escena indie-folk. \n\nEntre 2003 i 2008\, encara a Nova York\, Fuster forma Proton Proton\, una banda de rock experimental i visceral\, amb influències de Fugazi\, Shellac o l’escena post-hardcore. El grup treu un disc de llarga durada i es fa un nom dins el circuit underground de la ciutat\, amb directes intensos i una actitud frontal.\n\nL’any 2012\, ja establert definitivament a Catalunya\, publica Repte\, un disc nu\, introspectiu i enregistrat gairebé com una declaració vital. El segueix Go/Between (2016)\, on explora sons més elèctrics i madurs\, mantenint el seu estil híbrid entre emoció i minimalisme.\n\nSimultàniament\, forma part de Big Ok\, una banda amb dues altres veus de pes de l’escena catalana. Influïts per grups com Swans\, Dirty Three o Nick Cave & the Bad Seeds\, Big Ok explora la cançó des de l’experimentació i la intensitat\, publicant un disc de llarga durada carregat de tensió i llibertat creativa. El seu últim treball fins ara és l’EP Organ-isim (2023)\, una proposta curta però profunda\, on torna a reinventar-se amb textures electròniques\, ritmes orgànics i una mirada íntima al procés creatiu.\n  \n 
URL:https://esclaustre.com/en/event/paul-fuster/
LOCATION:Es Claustre\, Pati del Claustre del Carme\, 50\, Maó\, illes balears\, 07701
CATEGORIES:Agenda Menorca,SLIDE HOME
ATTACH;FMTTYPE=image/jpeg:https://esclaustre.com/wp-content/uploads/2025/04/paul-fuster_.jpeg
ORGANIZER;CN="ES CLAUSTRE":MAILTO:info@esclaustre.com
GEO:39.888632;4.266257
X-APPLE-STRUCTURED-LOCATION;VALUE=URI;X-ADDRESS=Es Claustre Pati del Claustre del Carme 50 Maó illes balears 07701;X-APPLE-RADIUS=500;X-TITLE=Pati del Claustre del Carme\, 50:geo:4.266257,39.888632
END:VEVENT
BEGIN:VEVENT
DTSTART;TZID=Europe/Madrid:20250509T230000
DTEND;TZID=Europe/Madrid:20250509T230000
DTSTAMP:20260419T165300
CREATED:20250507T092941Z
LAST-MODIFIED:20250507T100400Z
UID:10006955-1746831600-1746831600@esclaustre.com
SUMMARY:Delisito de sa Caleta
DESCRIPTION:«Delisito de sa Caleta»\, disparant des de la cabina\nEn acabar el concert del cantant Paul Fuster\, en Delis s’ocuparà de l’ambientació musical des de la cabina d’Es Claustre. \nNo hi faltis! \n 
URL:https://esclaustre.com/en/event/delisito/
LOCATION:Es Claustre\, Pati del Claustre del Carme\, 50\, Maó\, illes balears\, 07701
CATEGORIES:Agenda Menorca
ATTACH;FMTTYPE=image/jpeg:https://esclaustre.com/wp-content/uploads/2025/05/Delisito-de-sa-Caleta.jpeg
ORGANIZER;CN="ES CLAUSTRE":MAILTO:info@esclaustre.com
GEO:39.888632;4.266257
X-APPLE-STRUCTURED-LOCATION;VALUE=URI;X-ADDRESS=Es Claustre Pati del Claustre del Carme 50 Maó illes balears 07701;X-APPLE-RADIUS=500;X-TITLE=Pati del Claustre del Carme\, 50:geo:4.266257,39.888632
END:VEVENT
BEGIN:VEVENT
DTSTART;TZID=Europe/Madrid:20250510T120000
DTEND;TZID=Europe/Madrid:20250510T233000
DTSTAMP:20260419T165300
CREATED:20250504T090619Z
LAST-MODIFIED:20250504T092806Z
UID:10006931-1746878400-1746919800@esclaustre.com
SUMMARY:Trio Tropical
DESCRIPTION:«Trio Tropical» tot un dia amb Terremoto Mambo\, Toni Sabariego i Dj Bass\nEl proper 10 de maig\, Es Claustre canviarà la seva ànima mediterrània per la de la selva amazònica. Per això\, comptarem amb Trio Tropical\, que\, sumant el bagatge de projectes anteriors\, i influenciats pels ritmes llatins i la seva fusió amb l’electrònica\, ens faran viatjar per diferents parts del món a través de ritmes enganxosos\, baixos potents i molta fescura. \nUn combinat eclèctic de ritmes sensuals i sons globals dissenyat perquè no puguis deixar de ballar.
URL:https://esclaustre.com/en/event/trio-tropical/
LOCATION:Es Claustre\, Pati del Claustre del Carme\, 50\, Maó\, illes balears\, 07701
CATEGORIES:ACTIVITATS PARAL·LELES,Agenda Menorca
ATTACH;FMTTYPE=image/jpeg:https://esclaustre.com/wp-content/uploads/2025/05/Trio-Tropical-1.jpeg
ORGANIZER;CN="ES CLAUSTRE":MAILTO:info@esclaustre.com
GEO:39.888632;4.266257
X-APPLE-STRUCTURED-LOCATION;VALUE=URI;X-ADDRESS=Es Claustre Pati del Claustre del Carme 50 Maó illes balears 07701;X-APPLE-RADIUS=500;X-TITLE=Pati del Claustre del Carme\, 50:geo:4.266257,39.888632
END:VEVENT
BEGIN:VEVENT
DTSTART;TZID=Europe/Madrid:20250510T130000
DTEND;TZID=Europe/Madrid:20250510T130000
DTSTAMP:20260419T165301
CREATED:20250507T112628Z
LAST-MODIFIED:20250507T151514Z
UID:10006958-1746882000-1746882000@esclaustre.com
SUMMARY:Bon Ball Tenim
DESCRIPTION:Obertura de Hauser & Wirth amb «Bon Ball Tenim»\nActivitats a Hauser & Wirth \nDissabte 10 de maig \n10.15 – 13h\nParticipa en un taller obert per a totes les edats inspirat en l’exposició ‘Mika Rottenberg. Vibrant Matter’ \n11.15h\nVisita guiada a l’exposició de Mika Rottenberg en català \n12.15h\nVisita guiada a l’exposició de Mika Rottenberg en castellà \n13 – 16h\nGaudeix d’un dinar a Cantina que inclou estacions de menjar de tapes a preus populars\, acompanyat de música en directe de ‘Bon ball Tenim’. \nBon Ball Tenim una xaranga de joves de Menorca\nEl grup Bon Ball Tenim va sorgir a l’any 2015\, sent un grup d’amics que es varen juntar per fer música i ambientar les festes de la Mare de Déu de Gràcia. Després del gran éxit obtingut durant aquell passa-carrers\, el grup es solidifica com a xaranga i actuen a varis passa-carrers a mercats de nadal a Maó (2015 i 2016\, passa-carrers festius a Maó i es Castell\, ambientació a escoles de primària i altres.
URL:https://esclaustre.com/en/event/bon-ball-tenim/
LOCATION:Hauser & Wirth\, illa del rei\, Maó\, illes balears\, Espanya
CATEGORIES:Agenda Menorca,Altres esdeveniments,Hauser & Wirth
ATTACH;FMTTYPE=image/jpeg:https://esclaustre.com/wp-content/uploads/2025/05/Bon_Ball_Tenim.jpeg
ORGANIZER;CN="ES CLAUSTRE":MAILTO:info@esclaustre.com
END:VEVENT
BEGIN:VEVENT
DTSTART;TZID=Europe/Madrid:20250516T230000
DTEND;TZID=Europe/Madrid:20250516T230000
DTSTAMP:20260419T165301
CREATED:20250513T092545Z
LAST-MODIFIED:20250513T092609Z
UID:10006970-1747436400-1747436400@esclaustre.com
SUMMARY:Le Nuit & Diego Armando
DESCRIPTION:«Le Nuit & Diego Armando» a la cabina del Claustre\nDj Le Nuit ens oferirà una sessió compartida enfocada al pop alternatiu: indie pop\, sinth pop\, garage\, psicodèlia…\n\nEn Pol és un dj de Barcelona que ha sovintejat l’escena més canalla i amb la música electrònica com a referent\, tanmateix el seu gust pel pop\, mesclat amb punk hip hop\, new wave…és el que ens oferirà en la seva sessió de divendres nit. És un asiduo de les nits menorquines\, i en aquesta ocasió s’acompanya de Diego Armando\, un dj transfronterer on la seva especialitat és entendre que la música no sap de gèneres i que per fer ballar el personal és el més important.\n\n  \nVine a descobrir més i més música cada cap de setmana Es Claustre Club!
URL:https://esclaustre.com/en/event/le-nuit-diego-armando/
LOCATION:Es Claustre\, Pati del Claustre del Carme\, 50\, Maó\, illes balears\, 07701
CATEGORIES:ACTIVITATS PARAL·LELES,Agenda Menorca
ATTACH;FMTTYPE=image/jpeg:https://esclaustre.com/wp-content/uploads/2025/05/LE-NUIT-AND-FRIENDS-MAIG.jpeg
ORGANIZER;CN="ES CLAUSTRE":MAILTO:info@esclaustre.com
GEO:39.888632;4.266257
X-APPLE-STRUCTURED-LOCATION;VALUE=URI;X-ADDRESS=Es Claustre Pati del Claustre del Carme 50 Maó illes balears 07701;X-APPLE-RADIUS=500;X-TITLE=Pati del Claustre del Carme\, 50:geo:4.266257,39.888632
END:VEVENT
BEGIN:VEVENT
DTSTART;TZID=Europe/Madrid:20250517T100000
DTEND;TZID=Europe/Madrid:20250517T220000
DTSTAMP:20260419T165301
CREATED:20250504T100459Z
LAST-MODIFIED:20250513T075557Z
UID:10006934-1747476000-1747519200@esclaustre.com
SUMMARY:Jornades Professionals Es Claustre 2025
DESCRIPTION:Jornades Professionals Es Claustre 2025\nAula de Música des Claustre: 10.30h \n\nTaula Rodona: La identitat de Menorca a l’Exterior\n\nDestianada a explorar la percepció de Menorca fora de les illes Balears. \nParticipa: Oriol Caba ( Les Antípodes) / Gerard Aguiló ( Festival Cruïlla) / Jordi Casadesús ( Mercat de Música de Vic) / Bárbara Martín ( Talent Management) / Anna Cerdà ( Paral·lel 62) \n  \nAula de Música des Claustre: 12.00h \n2. Xerrada: Programar des de les illes Balears \nDiversos professionals de l’arxipèleg exposaran la seva experiència en la gestió i la promoció d’iniciatives culturals \nParticipa: Josep Marquès ( Teatre des Born) / Bernat Casasnoves ( Jazz Obert) / Cristina Bugallo ( Produccions de Ferro) / Virgínia Seguí ( Sala Albert Camús) / Maxwell Moya Wright ( Formentera Jazz Festival) \n  \nPati d’Es Claustre: 12.30h – 17.00h \nSant Vermut Maó + Flors amb Diego Armando \n  \nPati des Claustre del Carme: 18.00h \n3. Masterclass de Juan Pablo Balcázar \nCompartirà la seva visió sobre l’escena jazzística actual\, des de la seva perspectiva d’un artista que coneix de prop la creació i la producció d’esdeveniments d’aquest gènere \n  \nFinalitzen les Jornades amb una Jam Session coordinada pel músic Pablo Millas i acabada la jam la sessió dj de la mà d’en Diego Armando  \n  \n  \n\n			\n				\n			\n				\n				JORNADES PROFESSIONALS\n17 MAIG 10h-21h 2025\nEs Claustre Maó\n				\n			\n				\n			\n				\n				JORNADES PROFESSIONALS\n17 MAIG 10h-21h 2025\nEs Claustre Maó\n				\n			\n				\n			\n				\n				SANT VERMUT MAó + FLORS\n17 MAIG 10h-21h 2025\nEs Claustre Maó\n				\n			\n				\n			\n				\n				JORNADES PROFESSIONALS\n17 MAIG 10h-21h 2025\nEs Claustre Maó\n				\n			\n				\n			\n				\n				JORNADES PROFESSIONALS\n17 MAIG 10h-21h 2025\nEs Claustre Maó
URL:https://esclaustre.com/en/event/jornades-professionals-es-claustre-2025/
LOCATION:Es Claustre\, Pati del Claustre del Carme\, 50\, Maó\, illes balears\, 07701
CATEGORIES:ACTIVITATS PARAL·LELES,Agenda Menorca
ATTACH;FMTTYPE=image/jpeg:https://esclaustre.com/wp-content/uploads/2025/05/Jornades_web.jpeg
ORGANIZER;CN="ES CLAUSTRE":MAILTO:info@esclaustre.com
GEO:39.888632;4.266257
X-APPLE-STRUCTURED-LOCATION;VALUE=URI;X-ADDRESS=Es Claustre Pati del Claustre del Carme 50 Maó illes balears 07701;X-APPLE-RADIUS=500;X-TITLE=Pati del Claustre del Carme\, 50:geo:4.266257,39.888632
END:VEVENT
BEGIN:VEVENT
DTSTART;TZID=Europe/Madrid:20250517T140000
DTEND;TZID=Europe/Madrid:20250517T233000
DTSTAMP:20260419T165301
CREATED:20250513T074216Z
LAST-MODIFIED:20250522T181104Z
UID:10006967-1747490400-1747524600@esclaustre.com
SUMMARY:Diego Armando
DESCRIPTION:«Diego Armando» fent la triatló per Menorca\nDiego Armando és l’alterego de Xavier Riembau\, un nom que el gran Mani de Primal Scream i Stone Roses li va posar ja fa més de 15 anys en un Sant Joan a la Costa Brava on van coincidir. Curtit en mil i una cabines de la ciutat comtal i rodalies: Powder Room (Apolo)\, La 2 de Nitsa\, Gusto aka Switch\, Maumau\, Ocaña\, Becool entre d’altres i en Festivals com Sónar\, Faraday\, Picnik Elektronik\, PopArb\, Van Van Market\, Mostra Sonora i Visual i Rock Circus (Itàlia) o el Bonnefooi (Brussel·les). Ha tingut el privilegi de compartir escenari amb Ike Turner\, Maceo Parker\, The Streets\, Mdou Moctar\, Mammane Sanni\, The Ex\, Fendika\, King Ayisoba i Zea\, Pascal Comelade o Raph Dumas…entre d’altres. \nLa seva especialitat és entendre que la música no sap de gèneres i que per fer ballar el personal és el més important. El podràs trobar en format vinil B2B amb en Le Nuit el divendres\, al migdia dissabte de Sant Vermut al Pati d’Es Claustre dins Les Jornades Professionals i de Claustre Club el mateix dissabte de capvespre.
URL:https://esclaustre.com/en/event/diego-armando-2/
LOCATION:Es Claustre\, Pati del Claustre del Carme\, 50\, Maó\, illes balears\, 07701
CATEGORIES:ACTIVITATS PARAL·LELES,Agenda Menorca
ATTACH;FMTTYPE=image/jpeg:https://esclaustre.com/wp-content/uploads/2025/05/Diego_ArmandoDJ.jpeg
ORGANIZER;CN="ES CLAUSTRE":MAILTO:info@esclaustre.com
GEO:39.888632;4.266257
X-APPLE-STRUCTURED-LOCATION;VALUE=URI;X-ADDRESS=Es Claustre Pati del Claustre del Carme 50 Maó illes balears 07701;X-APPLE-RADIUS=500;X-TITLE=Pati del Claustre del Carme\, 50:geo:4.266257,39.888632
END:VEVENT
BEGIN:VEVENT
DTSTART;TZID=Europe/Madrid:20250523T210000
DTEND;TZID=Europe/Madrid:20250523T233000
DTSTAMP:20260419T165301
CREATED:20250324T070930Z
LAST-MODIFIED:20250324T073452Z
UID:10006827-1748034000-1748043000@esclaustre.com
SUMMARY:Arco
DESCRIPTION:«Arco»\, acoustic tour\nAntonio Arco\, stage name Arco\, is a Spanish singer\, guitarist\, composer\, writer and lyricist\, previously known for having led the Andalusian band El Puchero del Hortelano until the end of 2015. With them he made international tours of Latin America and Europe. Early 2016 he began his solo career as Arco. \n\nIn these five years he has published three albums\, two of them for Warner Music Spain\, which have entered the list of best  sellers reaching 8th place with his debut and have been selec- ted by various media such as Mondo Sonoro or Rock Sesión\, as  albums of the year on their respective releases. He has toured in Spain\, selling out on more than thirty dates\, and he has also given concerts in Latin America and the US. He has published an autobiographical book that has already sold out two of its editions and has starred in the documentary film “Octavas” with Jorge Drexler and Seu Jorge.\n\nAn outbreak of creativity that continues to make him one of the benchmarks of the Andalusian rock scene and flamenco fusion\, but above all\, of the roots and the authenticity and quality of his texts.\n  \n  \n\n 
URL:https://esclaustre.com/en/event/arco/
LOCATION:Es Claustre\, Pati del Claustre del Carme\, 50\, Maó\, illes balears\, 07701
CATEGORIES:Agenda Menorca,Altres esdeveniments
ATTACH;FMTTYPE=image/jpeg:https://esclaustre.com/wp-content/uploads/2025/03/Arco.jpeg
ORGANIZER;CN="ES CLAUSTRE":MAILTO:info@esclaustre.com
GEO:39.888632;4.266257
X-APPLE-STRUCTURED-LOCATION;VALUE=URI;X-ADDRESS=Es Claustre Pati del Claustre del Carme 50 Maó illes balears 07701;X-APPLE-RADIUS=500;X-TITLE=Pati del Claustre del Carme\, 50:geo:4.266257,39.888632
END:VEVENT
BEGIN:VEVENT
DTSTART;TZID=Europe/Madrid:20250524T210000
DTEND;TZID=Europe/Madrid:20250524T233000
DTSTAMP:20260419T165301
CREATED:20250403T210148Z
LAST-MODIFIED:20250522T141817Z
UID:10006844-1748120400-1748129400@esclaustre.com
SUMMARY:Tarquim
DESCRIPTION:«Tarquim» és música per ballar\, escoltar i gaudir en comunitat\nTarquim\, de l’àrab tarkim\, és el llot que depositen en el fons les aigües que inunden un terreny\, ric en matèria orgànica i utilitzat com a adob en agricultura. L’estudi de diferents tradicions folklòriques i populars\, com el tarquim\, serveix per crear nova música\, nous repertoris presents. \nTarquim és Pau Vidal. Un jove saxofonista\, flautista i compositor que es va fer un nom en l’escena musical participant en projectes de grans artistes internacionals com Enrique Bunbury\, Nathy Peluso\, Gonzalo Grau y la Clave Secreta o Bitty Mclean entre d’altres. I a l’escena local junt amb Andrea Motis\, Judit Nedderman i The Sey Sisters al grup The Gramophone All Stars Big Band\, del que és membre. Una extensa carrera on va demostrar el seu domini de la música cubana\, el Jazz\, el soul i el reggae entre altres. \nA l’escenari d’Es Claustre venen a presentar el seu últim àlbum titulat «A Cuba»\, on es troben gèneres com el son\, el guaguancó o el latin jazz entre altres. Música per ballar\, escoltar i gaudir en comunitat. \nPau Vidal flauta/saxo tenor/composicions · Yadira Ferrer veu · Diego Coppinger baby Bbss/veu · Kevin Díaz teclats · Ori Martínez timbal · Climent Campà conga \n  \n\n  \n\n  \n 
URL:https://esclaustre.com/en/event/tarquim-2/
LOCATION:Es Claustre\, Pati del Claustre del Carme\, 50\, Maó\, illes balears\, 07701
CATEGORIES:Agenda Menorca,SLIDE HOME
ATTACH;FMTTYPE=image/jpeg:https://esclaustre.com/wp-content/uploads/2025/04/TARQUIM.jpeg
ORGANIZER;CN="ES CLAUSTRE":MAILTO:info@esclaustre.com
GEO:39.888632;4.266257
X-APPLE-STRUCTURED-LOCATION;VALUE=URI;X-ADDRESS=Es Claustre Pati del Claustre del Carme 50 Maó illes balears 07701;X-APPLE-RADIUS=500;X-TITLE=Pati del Claustre del Carme\, 50:geo:4.266257,39.888632
END:VEVENT
BEGIN:VEVENT
DTSTART;TZID=Europe/Madrid:20250530T210000
DTEND;TZID=Europe/Madrid:20250530T230000
DTSTAMP:20260419T165301
CREATED:20250203T123517Z
LAST-MODIFIED:20250527T100200Z
UID:10006782-1748638800-1748646000@esclaustre.com
SUMMARY:Caamaño & Ameixeiras
DESCRIPTION:«Caamaño & Ameixeiras» the expansion of Galician traditional music\nCaamaño & Ameixeiras is one of the great international exponents of the new Galician traditional music. Resignifying roots music and dance with the most contemporary sounds\, the duo is expanding their talent beyond the Galician borders. Their intimate and profound treatment of Galician folk tradition is leading Sabela Caamaño and Antía Ameixeiras to stand out on the national and international scene. With an impressive\, careful and daring staging\, they have already performed extensively\, taking their live performances to countries such as Italy\, Belgium\, France\, Portugal\, Slovakia\, Czech Republic and Austria. In addition\, their songs have already accumulated hundreds of thousands of listens on digital platforms\, their albums have sold thousands of copies and they have collaborated with artists of the stature of Rodrigo Cuevas. \nThe Galician group inspired their work in the popular universe\, creating an atmosphere where reality\, magic and religion converge. In the last few years of their career\, their music has moved from these joyful sounds and this collaborative character to a darker and more intimate aspect\, achieving a success that led them to win a Martín Códax Music Award in the Folk category\, as well as playing in important festivals such as the Interceltique de Lorient\, the Festival de Ortigueira\, the Festival Tradicionàrius de Barcelona\, the Revenidas or the Osa del Mar. \nOne of the great attractions of the group is their strong commitment to their live performance. With a surprising staging\, very elaborate and daring\, Caamaño&Ameixeiras is impressing the public in their presentations\, proposing a visual and artistic show that reinforces their already powerful live performance. \nCaamaño & Ameixeiras comes from presenting in 2024 their latest album\, Quitar o aire (2023)\, with a tour that accumulated more than 60 concerts and that reached countries such as Austria\, Portugal\, Belgium\, France or the Netherlands. After the success of Catro Cousas\, their new single with Rodrigo Cuevas\, the group faces 2025 maintaining its international character\, confirming concerts in Scotland\, France and Portugal in these first months of the year. It will be a year that will also bring new music\, with great surprises that will make Caamaño&Ameixeiras one of the trendiest bands on the scene. \nA concert Es Claustre in collaboration with GPS15 Girando Por Salas \n  \n\n 
URL:https://esclaustre.com/en/event/caamanoameixeiras-30-maig-21-00h-2025-es-claustre-gps15/
LOCATION:Es Claustre\, Pati del Claustre del Carme\, 50\, Maó\, illes balears\, 07701
CATEGORIES:Agenda Menorca,SLIDE HOME
ATTACH;FMTTYPE=image/jpeg:https://esclaustre.com/wp-content/uploads/2025/02/CaamanoAmeixeiras.jpeg
ORGANIZER;CN="ES CLAUSTRE":MAILTO:info@esclaustre.com
GEO:39.888632;4.266257
X-APPLE-STRUCTURED-LOCATION;VALUE=URI;X-ADDRESS=Es Claustre Pati del Claustre del Carme 50 Maó illes balears 07701;X-APPLE-RADIUS=500;X-TITLE=Pati del Claustre del Carme\, 50:geo:4.266257,39.888632
END:VEVENT
BEGIN:VEVENT
DTSTART;TZID=Europe/Madrid:20250530T230000
DTEND;TZID=Europe/Madrid:20250530T230000
DTSTAMP:20260419T165301
CREATED:20250504T081847Z
LAST-MODIFIED:20250504T082720Z
UID:10006928-1748646000-1748646000@esclaustre.com
SUMMARY:Philip Sherburne
DESCRIPTION:«Philip Sherburne» a luxury guest in Es Claustre\n\n\n\n\n\n\n\n\n\n\n\n\n\n\n\n\n\n\n\n\nAmerican Philip Sherburne is an institution within music journalism. He has been writing about electronic and experimental music since 1998\, and has worked for publications such as The New York Times\, The Wire\, SPIN\, Resident Advisor and Pitchfork\, for whom he currently works as Contributing Editor. But Mr Sherburne is also an excellent producer and DJ who has performed in some of the largest DJ booths and festivals around the world\, even becoming one of the established names at the Unsound Festival in Krakow\, where he performs year after year. It will be a real treat to enjoy one of his eclectic sets full of new music that will still take some months to be officially released. \n  \n\nSerà un autèntic luxe poder gaudir en Es Claustre i dins la nostra programació de primavera\, en una sessió per a l’ocasió d’electrònica\, amb tocs ambient i evolucionant al ball més exigent. \n  \nhttp://www.philipsherburne.com
URL:https://esclaustre.com/en/event/philip-sherburne-2/
LOCATION:Es Claustre\, Pati del Claustre del Carme\, 50\, Maó\, illes balears\, 07701
CATEGORIES:Agenda Menorca,Altres esdeveniments
ATTACH;FMTTYPE=image/jpeg:https://esclaustre.com/wp-content/uploads/2021/09/Philip_Sherburne.jpg
ORGANIZER;CN="ES CLAUSTRE":MAILTO:info@esclaustre.com
GEO:39.888632;4.266257
X-APPLE-STRUCTURED-LOCATION;VALUE=URI;X-ADDRESS=Es Claustre Pati del Claustre del Carme 50 Maó illes balears 07701;X-APPLE-RADIUS=500;X-TITLE=Pati del Claustre del Carme\, 50:geo:4.266257,39.888632
END:VEVENT
BEGIN:VEVENT
DTSTART;TZID=Europe/Madrid:20250531T210000
DTEND;TZID=Europe/Madrid:20250531T233000
DTSTAMP:20260419T165301
CREATED:20250403T203124Z
LAST-MODIFIED:20260409T144959Z
UID:10006841-1748725200-1748734200@esclaustre.com
SUMMARY:Johnson Woo
DESCRIPTION:«Johnson Woo» arriben Es Claustre per inventar\nEs van estrenar a l’escenari d’Es Claustre i en succesives ocasions ens tornaren a visitar. Els Johnson Woo ara ja son intergal·làctics i venen a mostrar-se per canviar-ho tot. \nJohnson Woo i els sus múltiples estils musicals; rock\, funk\, lounge\, country\, grunge i dance; algunes vegades fins i tot aquestes influències es poden trobar en una mateixa cançó. Si sou de Menorca\, aquestes cares segur que us sonen…Tenen noves coses a dir-nos i les volen mostrar novament davant l’escenari d’Es Claustre. \nBona i creativa gent!
URL:https://esclaustre.com/en/event/johnson-woo-2/
LOCATION:Es Claustre\, Pati del Claustre del Carme\, 50\, Maó\, illes balears\, 07701
CATEGORIES:Agenda Menorca,Altres esdeveniments
ATTACH;FMTTYPE=image/jpeg:https://esclaustre.com/wp-content/uploads/2025/04/Johnson_Woo.jpeg
ORGANIZER;CN="ES CLAUSTRE":MAILTO:info@esclaustre.com
GEO:39.888632;4.266257
X-APPLE-STRUCTURED-LOCATION;VALUE=URI;X-ADDRESS=Es Claustre Pati del Claustre del Carme 50 Maó illes balears 07701;X-APPLE-RADIUS=500;X-TITLE=Pati del Claustre del Carme\, 50:geo:4.266257,39.888632
END:VEVENT
END:VCALENDAR