BEGIN:VCALENDAR
VERSION:2.0
PRODID:-//Es Claustre - ECPv6.15.15//NONSGML v1.0//EN
CALSCALE:GREGORIAN
METHOD:PUBLISH
X-WR-CALNAME:Es Claustre
X-ORIGINAL-URL:https://esclaustre.com/en/
X-WR-CALDESC:Events for Es Claustre
REFRESH-INTERVAL;VALUE=DURATION:PT1H
X-Robots-Tag:noindex
X-PUBLISHED-TTL:PT1H
BEGIN:VTIMEZONE
TZID:Europe/Madrid
BEGIN:DAYLIGHT
TZOFFSETFROM:+0100
TZOFFSETTO:+0200
TZNAME:CEST
DTSTART:20240331T010000
END:DAYLIGHT
BEGIN:STANDARD
TZOFFSETFROM:+0200
TZOFFSETTO:+0100
TZNAME:CET
DTSTART:20241027T010000
END:STANDARD
BEGIN:DAYLIGHT
TZOFFSETFROM:+0100
TZOFFSETTO:+0200
TZNAME:CEST
DTSTART:20250330T010000
END:DAYLIGHT
BEGIN:STANDARD
TZOFFSETFROM:+0200
TZOFFSETTO:+0100
TZNAME:CET
DTSTART:20251026T010000
END:STANDARD
BEGIN:DAYLIGHT
TZOFFSETFROM:+0100
TZOFFSETTO:+0200
TZNAME:CEST
DTSTART:20260329T010000
END:DAYLIGHT
BEGIN:STANDARD
TZOFFSETFROM:+0200
TZOFFSETTO:+0100
TZNAME:CET
DTSTART:20261025T010000
END:STANDARD
END:VTIMEZONE
BEGIN:VEVENT
DTSTART;TZID=Europe/Madrid:20251107T220000
DTEND;TZID=Europe/Madrid:20251107T233000
DTSTAMP:20260420T022353
CREATED:20251030T083626Z
LAST-MODIFIED:20251103T091756Z
UID:10007379-1762552800-1762558200@esclaustre.com
SUMMARY:Camilo Matachin
DESCRIPTION:Discòrdia –> Camilo Matachin a la cabina d’Es Claustre\nCamilo Matachin és un Dj de Colòmbia afincat a la ciutat de Barcelona des de fa més de 15 anys\, que explora el món del vinil a través de diferents gèneres como son el funk\, disco\, hip-hop\, música llatina i la música africana. \nHa format part de diferents col·lectius musicals i propostes a Barcelona com son Makossa Groove Combo\, Scratch Invaders\, o el dúo The Hustle. \nEn Camilo és DJ resistent del Marula Café des de fa 3 anys\, alhora que programa les sessions en format discs de 7 pulçades proposant i suggerint els sets més eclèctics i de ball del panorama actual a Barcelona. \nUn divendres de Discòrdia on el ball està assegurat a Es Claustre. \n 
URL:https://esclaustre.com/en/event/camilo-matachin/
LOCATION:Es Claustre\, Pati del Claustre del Carme\, 50\, Maó\, illes balears\, 07701
CATEGORIES:Agenda Menorca,SLIDE HOME
ATTACH;FMTTYPE=image/jpeg:https://esclaustre.com/wp-content/uploads/2024/04/Camilo_Matachin_DISCORDIA.jpg
ORGANIZER;CN="ES CLAUSTRE":MAILTO:info@esclaustre.com
GEO:39.888632;4.266257
X-APPLE-STRUCTURED-LOCATION;VALUE=URI;X-ADDRESS=Es Claustre Pati del Claustre del Carme 50 Maó illes balears 07701;X-APPLE-RADIUS=500;X-TITLE=Pati del Claustre del Carme\, 50:geo:4.266257,39.888632
END:VEVENT
BEGIN:VEVENT
DTSTART;TZID=Europe/Madrid:20251114T220000
DTEND;TZID=Europe/Madrid:20251114T233000
DTSTAMP:20260420T022353
CREATED:20251030T101449Z
LAST-MODIFIED:20251030T102523Z
UID:10007376-1763157600-1763163000@esclaustre.com
SUMMARY:Ivan Ivánovich
DESCRIPTION:Discòrdia –> Ivan Ivánovich in the cabin of Es Claustre\nIvan Ivánovichbegan his DJ career at the Powder Room club in Barcelona’s iconic Sala Apolo. For over 15 years\, he has been the resident DJ at Marula Café\, one of the city’s key venues for soul\, funk\, and groove. In 2012\, together with his cousin Phil\, he founded Rocafort Records\, an independent label specializing in groove and soul reissues. With a catalog of over 50 releases\, the label has earned support from internationally renowned DJs such as DJ Koco\, Gilles Peterson\, Osunlade or Laurent Garnier. \nHe is also part of the team at Barcelona City Records\, recently named by the Financial Times as one of the best record stores in Europe. Throughout his career\, Ivan has brought his sound to renowned venues such as the Jazz Café in London\, performed in cities like Paris and Berlin\, and played at iconic festivals including Montreux\, Jazzaldia\, and Cully Jazz. \nA Friday at Discòrdia Es Claustre where learning and dancing is possible.
URL:https://esclaustre.com/en/event/ivan-ivanovich/
LOCATION:Es Claustre\, Pati del Claustre del Carme\, 50\, Maó\, illes balears\, 07701
CATEGORIES:Agenda Menorca,SLIDE HOME
ATTACH;FMTTYPE=image/jpeg:https://esclaustre.com/wp-content/uploads/2024/04/Ivan_Ivanovich_DISCORDIA.jpg
ORGANIZER;CN="ES CLAUSTRE":MAILTO:info@esclaustre.com
GEO:39.888632;4.266257
X-APPLE-STRUCTURED-LOCATION;VALUE=URI;X-ADDRESS=Es Claustre Pati del Claustre del Carme 50 Maó illes balears 07701;X-APPLE-RADIUS=500;X-TITLE=Pati del Claustre del Carme\, 50:geo:4.266257,39.888632
END:VEVENT
BEGIN:VEVENT
DTSTART;TZID=Europe/Madrid:20251121T233000
DTEND;TZID=Europe/Madrid:20251121T233000
DTSTAMP:20260420T022353
CREATED:20251022T084114Z
LAST-MODIFIED:20251103T092327Z
UID:10007100-1763767800-1763767800@esclaustre.com
SUMMARY:This Order
DESCRIPTION:Discòrdia –> This Order a la cabina d’Es Claustre\nMax Wagberg\, més conegut com a Thisorder darrere els aparells musicals\, és col·leccionista de discos\, dj i productor. \nLes seves sessions circulen pels millors racons de la música negra\, proporcionant altes dosis d’elegància\, groove i energia contagiosa. \nJuntament amb la seva maleta plena de discos de soul\, funk\, disco\, hip hop i reggae\, ha trepitjat les cabines del Vida Festival\, La Paloma\, és resident al Marula Café i punxa habitualment en llocs de referència com el Curtis Audiophile Café\, l’Ultramar Club i el Palo Market\, entre d’altres. Recentment\, ha fet un tour per Londres passant per espais tan emblemàtics com el Brilliant Corners i el Bambi. \nI a banda d’encendre pistes de ball i crear ritmes al seu estudi\, també el podem trobar presentant el seu programa de música punxada en vinil “El Discòbol” i organitzant la seva festa mensual “Planta Baixa” a l’Ultramar Club\, per on han passat artistes com Juli Giuliani\, Mabreezee\, Karmasound\, Elohim Barros (São Paulo)\, Sonido Tupinamba i Cidtronyck entre d’altres. \nNo us el perdeu en una nova sessió Discòrdia a Es Claustre \n  \n\n 
URL:https://esclaustre.com/en/event/this-order/
LOCATION:Es Claustre\, Pati del Claustre del Carme\, 50\, Maó\, illes balears\, 07701
CATEGORIES:Agenda Menorca,SLIDE HOME
ATTACH;FMTTYPE=image/jpeg:https://esclaustre.com/wp-content/uploads/2024/04/THISORDER_DISCORDIA.jpg
ORGANIZER;CN="ES CLAUSTRE":MAILTO:info@esclaustre.com
GEO:39.888632;4.266257
X-APPLE-STRUCTURED-LOCATION;VALUE=URI;X-ADDRESS=Es Claustre Pati del Claustre del Carme 50 Maó illes balears 07701;X-APPLE-RADIUS=500;X-TITLE=Pati del Claustre del Carme\, 50:geo:4.266257,39.888632
END:VEVENT
BEGIN:VEVENT
DTSTART;TZID=Europe/Madrid:20251128T220000
DTEND;TZID=Europe/Madrid:20251128T233000
DTSTAMP:20260420T022353
CREATED:20251022T081547Z
LAST-MODIFIED:20251218T183618Z
UID:10007097-1764367200-1764372600@esclaustre.com
SUMMARY:Miguelito Superstar
DESCRIPTION:Discòrdia -→ Miguelito Superstar a la cabina d’Es Claustre \nMiguelito Superstar és conegut com a cantant de la banda de disco-funk Fundación Tony Manero. A part d’això és també productor musical i remesclador per a bandes i artistes com Los Fulanos\, Chocadelia Internacional\, Cardova\, The Slingshots\, Joe Bataan\, Midnight Lab Band i un llarg etcètera. La seva passió\, però\, són els vinils\, especialment (encara que no exclusivament) els de música afroamericana dels anys setanta i és aquesta passió la que l’ha dut a fer de dj en algunes de les cabines més prestigioses de l’Estat espanyol.
URL:https://esclaustre.com/en/event/miguelito-superstar/
LOCATION:Es Claustre\, Pati del Claustre del Carme\, 50\, Maó\, illes balears\, 07701
CATEGORIES:Agenda Menorca,SLIDE HOME
ATTACH;FMTTYPE=image/jpeg:https://esclaustre.com/wp-content/uploads/2024/04/Miguelito_Superstar_DISCORDIA.jpg
ORGANIZER;CN="ES CLAUSTRE":MAILTO:info@esclaustre.com
GEO:39.888632;4.266257
X-APPLE-STRUCTURED-LOCATION;VALUE=URI;X-ADDRESS=Es Claustre Pati del Claustre del Carme 50 Maó illes balears 07701;X-APPLE-RADIUS=500;X-TITLE=Pati del Claustre del Carme\, 50:geo:4.266257,39.888632
END:VEVENT
END:VCALENDAR