BEGIN:VCALENDAR
VERSION:2.0
PRODID:-//Es Claustre - ECPv6.15.15//NONSGML v1.0//EN
CALSCALE:GREGORIAN
METHOD:PUBLISH
X-WR-CALNAME:Es Claustre
X-ORIGINAL-URL:https://esclaustre.com/en/
X-WR-CALDESC:Events for Es Claustre
REFRESH-INTERVAL;VALUE=DURATION:PT1H
X-Robots-Tag:noindex
X-PUBLISHED-TTL:PT1H
BEGIN:VTIMEZONE
TZID:Europe/Madrid
BEGIN:DAYLIGHT
TZOFFSETFROM:+0100
TZOFFSETTO:+0200
TZNAME:CEST
DTSTART:20250330T010000
END:DAYLIGHT
BEGIN:STANDARD
TZOFFSETFROM:+0200
TZOFFSETTO:+0100
TZNAME:CET
DTSTART:20251026T010000
END:STANDARD
BEGIN:DAYLIGHT
TZOFFSETFROM:+0100
TZOFFSETTO:+0200
TZNAME:CEST
DTSTART:20260329T010000
END:DAYLIGHT
BEGIN:STANDARD
TZOFFSETFROM:+0200
TZOFFSETTO:+0100
TZNAME:CET
DTSTART:20261025T010000
END:STANDARD
BEGIN:DAYLIGHT
TZOFFSETFROM:+0100
TZOFFSETTO:+0200
TZNAME:CEST
DTSTART:20270328T010000
END:DAYLIGHT
BEGIN:STANDARD
TZOFFSETFROM:+0200
TZOFFSETTO:+0100
TZNAME:CET
DTSTART:20271031T010000
END:STANDARD
END:VTIMEZONE
BEGIN:VEVENT
DTSTART;TZID=Europe/Madrid:20260701T210000
DTEND;TZID=Europe/Madrid:20260701T233000
DTSTAMP:20260423T182906
CREATED:20260407T153815Z
LAST-MODIFIED:20260415T092034Z
UID:10007468-1782939600-1782948600@esclaustre.com
SUMMARY:Raimundo Amador
DESCRIPTION:Raimundo Amador\, de Pata Negra a Raimundo.\nRaimundo Amador es una figura clave de la música española y un pionero absoluto en la fusión del flamenco con el blues y el rock. Fundador de Pata Negra\, revolucionó la música de raíz en España creando un estilo propio que marcó a varias generaciones. Tras esa etapa histórica\, consolidó una sólida carrera en solitario\, destacando por su libertad creativa\, su fuerza en directo y una guitarra inconfundible. Con décadas de escenarios\, sigue siendo un artista auténtico\, vigente y en constante evolución. \nRaimundo Amador vuelve a conectar pasado y presente\, recuperando la esencia de Pata Negra\, grupo clave en la historia del flamenco fusión\, y combinándola con las canciones más representativas de su etapa en solitario.\n«De Pata Negra a Raimundo» es mucho más que un concierto: es una celebración de la música sin etiquetas\, donde el flamenco\, el blues y el rock se mezclan con total naturalidad. \nUna guitarra\, una historia y toda una vida de música en directo\, sin perder el alma. \n  \n\n  \n 
URL:https://esclaustre.com/en/event/raimundo-amador/
LOCATION:Es Claustre\, Pati del Claustre del Carme\, 50\, Maó\, illes balears\, 07701
CATEGORIES:Agenda Menorca,SLIDE HOME
ATTACH;FMTTYPE=image/jpeg:https://esclaustre.com/wp-content/uploads/2026/04/Raimundo-Amador_.jpeg
ORGANIZER;CN="ES CLAUSTRE":MAILTO:info@esclaustre.com
GEO:39.888632;4.266257
X-APPLE-STRUCTURED-LOCATION;VALUE=URI;X-ADDRESS=Es Claustre Pati del Claustre del Carme 50 Maó illes balears 07701;X-APPLE-RADIUS=500;X-TITLE=Pati del Claustre del Carme\, 50:geo:4.266257,39.888632
END:VEVENT
BEGIN:VEVENT
DTSTART;TZID=Europe/Madrid:20260703T210000
DTEND;TZID=Europe/Madrid:20260703T233000
DTSTAMP:20260423T182906
CREATED:20260420T111408Z
LAST-MODIFIED:20260420T111535Z
UID:10007516-1783112400-1783121400@esclaustre.com
SUMMARY:Rudymentari
DESCRIPTION:«Rudymentari» ens presenta Mala Herba sempre Creix\nRudymentari construeix el seu univers musical a partir dels ritmes jamaicans\, amb una base de reggae\, roots i rocksteady que dialoga amb l’esperit del sound system i la cultura rude boy. Les seves cançons destaquen per l’energia del directe i per unes lletres carregades de consciència\, reflexió i compromís social. \nAmb els àlbums Contracorrent i Rissaga\, Rudymentari ha consolidat la seva personalitat artística\, explorant la riquesa rítmica i melòdica del gènere i transmetent missatges de resistència\, consciència i esperança. Els seus directes\, plens d’energia i complicitat amb el públic\, han esdevingut una part essencial de la seva identitat\, convertint cada concert en una experiència col·lectiva i festiva. \nDesprés d’un temps de silenci discogràfic i d’una pausa als escenaris\, Rudymentari torna amb un nou disc sota el braç. I és que ara\, retorna Es Claustre per presentar-nos\, Mala Herba Sempre Creix. Un títol que és tota una declaració d’intencions que transmet\, des del primer moment\, impuls de lluita\, resistència i esperança. Les cançons de Mala herba sempre creix construeixen un relat unitari de resistència i consciència col·lectiva: fent un crit contra l’especulació de Menorca. Un disc que promet marcar una evolució sonora i lírica\, reafirmant el seu lloc com a veu imprescindible del reggae en català. \n 
URL:https://esclaustre.com/en/event/rudymentari-2/
LOCATION:Es Claustre\, Pati del Claustre del Carme\, 50\, Maó\, illes balears\, 07701
CATEGORIES:Agenda Menorca,Altres esdeveniments
ATTACH;FMTTYPE=image/jpeg:https://esclaustre.com/wp-content/uploads/2026/04/Rudymentari.jpeg
ORGANIZER;CN="ES CLAUSTRE":MAILTO:info@esclaustre.com
GEO:39.888632;4.266257
X-APPLE-STRUCTURED-LOCATION;VALUE=URI;X-ADDRESS=Es Claustre Pati del Claustre del Carme 50 Maó illes balears 07701;X-APPLE-RADIUS=500;X-TITLE=Pati del Claustre del Carme\, 50:geo:4.266257,39.888632
END:VEVENT
BEGIN:VEVENT
DTSTART;TZID=Europe/Madrid:20260704T210000
DTEND;TZID=Europe/Madrid:20260704T233000
DTSTAMP:20260423T182906
CREATED:20260423T071023Z
LAST-MODIFIED:20260423T072706Z
UID:10007522-1783198800-1783207800@esclaustre.com
SUMMARY:L'arannà
DESCRIPTION:«L’arannà»\, Turmarí\nThis duo is presenting a research and creation project based on the musical tradition of Ibiza and Formentera\, focusing on redoblat singing\, a style endemic to the Pityusic Islands\, and the traditional instruments of their folklore. The result is an innovative and distinct musical repertoire that showcases traditional technique in a contemporary context and through the prism of an up-and-coming young female group. \n 
URL:https://esclaustre.com/en/event/laranna/
LOCATION:Es Claustre\, Pati del Claustre del Carme\, 50\, Maó\, illes balears\, 07701
CATEGORIES:Agenda Menorca,Altres esdeveniments
ATTACH;FMTTYPE=image/jpeg:https://esclaustre.com/wp-content/uploads/2026/04/Laranna_.jpeg
ORGANIZER;CN="ES CLAUSTRE":MAILTO:info@esclaustre.com
GEO:39.888632;4.266257
X-APPLE-STRUCTURED-LOCATION;VALUE=URI;X-ADDRESS=Es Claustre Pati del Claustre del Carme 50 Maó illes balears 07701;X-APPLE-RADIUS=500;X-TITLE=Pati del Claustre del Carme\, 50:geo:4.266257,39.888632
END:VEVENT
BEGIN:VEVENT
DTSTART;TZID=Europe/Madrid:20260708T210000
DTEND;TZID=Europe/Madrid:20260708T233000
DTSTAMP:20260423T182906
CREATED:20260420T102130Z
LAST-MODIFIED:20260420T103602Z
UID:10007513-1783544400-1783553400@esclaustre.com
SUMMARY:Milena Casado
DESCRIPTION:«Milena Casado» one of the most promising voices in contemporary jazz\nCalled “a revelation” by The New York Times\, trumpeter and composer Milena Casado is one of the most compelling new voices in contemporary jazz. Known for her fluid improvisation and deeply personal compositions\, she effortlessly moves between acoustic music and electronic experimentation\, blending tradition with innovation. \nRecently recognized by the LA Times as a can’t-miss newcomer who’s keeping the spirit of jazz moving and listed as a contemporary jazz artist you should know by WBGO\, Casado has already generated major buzz through her work with Terri Lyne Carrington\, Vijay Iyer\, Aaron Parks\, Kris Davis\, and other guiding forces in the music world\, earning critical acclaim. She has been featured at many of the world’s top venues and festivals\, including Carnegie Hall\, The Village Vanguard\, The Kennedy Center\, North Sea Jazz Festival\, Montreal Jazz Festival\, and Monterey Jazz Festival\, among others. \nAn increasingly notable bandleader in her own right\, Casado leads her working quintet\, with recent performances at North Sea Jazz Festival\, Montreal Jazz Festival\, NYC Winter Jazzfest\, and other major venues. Backed by this group\, Casado recently released her debut album\, Reflection of Another Self\, on Candid Records. \n​Reflection of Another Self is a stunning debut—sonically adventurous and deeply personal\, a journey of self-discovery and resilience\, overcoming personal traumas. It is a bold statement from a newcomer who has been honing her skill with luminaries and biding her time\, constructing a debut album fit for someone destined to upend the jazz world. \n  \n\nMilena Casado: trompeta\, veu\, electronics I Lex Korten: piano I Kanoa Mendenhall: contrabaix I Jongkuk Kim: batería \n 
URL:https://esclaustre.com/en/event/milena-casado/
LOCATION:Es Claustre\, Pati del Claustre del Carme\, 50\, Maó\, illes balears\, 07701
CATEGORIES:Agenda Menorca,Altres esdeveniments
ATTACH;FMTTYPE=image/jpeg:https://esclaustre.com/wp-content/uploads/2026/04/Milena_Casado.jpg
ORGANIZER;CN="ES CLAUSTRE":MAILTO:info@esclaustre.com
GEO:39.888632;4.266257
X-APPLE-STRUCTURED-LOCATION;VALUE=URI;X-ADDRESS=Es Claustre Pati del Claustre del Carme 50 Maó illes balears 07701;X-APPLE-RADIUS=500;X-TITLE=Pati del Claustre del Carme\, 50:geo:4.266257,39.888632
END:VEVENT
BEGIN:VEVENT
DTSTART;TZID=Europe/Madrid:20260710T210000
DTEND;TZID=Europe/Madrid:20260710T233000
DTSTAMP:20260423T182906
CREATED:20260423T085500Z
LAST-MODIFIED:20260423T085518Z
UID:10007525-1783717200-1783726200@esclaustre.com
SUMMARY:Javi Medina
DESCRIPTION:«Javi Medina» la seva vida\, la seva música\, ara amb tota sa banda.\n\nAmb tan sols dos àlbums publicats el 2019 i 2022 però una intensíssima carrera discogràfica que en poc més de 5 anys suma dotzenes de singles i hits com Sale el Sol en el Bajo A\, Me la Llevo o Yo voy pa’rriba; Javi Medina és tot un fenomen a l’escena musical actual. Des del seu Leganés natal i sempre armat amb la seva inseparable guitarra\, Medina pulveritza les mètriques amb la seva capacitat per fusionar gèneres i crear un so únic que ressona amb audiències de diverses generacions. La música de Javi Medina és un reflex de la seva vida i experiències\, entrellaçant lletres profundes amb melodies envoltants\, amb el so del Caño Roto com a punt de partida per arribar a una fusió única de flamenc contemporani i mil i un altres gèneres. El de Javi Medina és un fenomen al qual cal parar atenció\, una veu única a la seva generació que\, amb el cant a les seves fartaneres i penes\, és capaç de connectar amb un públic cada vegada més transversal que no dubta a seguir-lo allà on passa\, sigui per incendiar l’escenari del Teatro Egaleo o del Cabo de Plata Festival\, sigui per omplir\, suar i penjar el cartell de “localitats exhaurides”\, com en el seu pas per la Sala Apolo\, Malandar\, Mon Live… \nEl Gato Negro Tour arrenca el pròxim 21 de març a Sevilla\, a l’emblemàtica Sala Custom per a la qual ja no queden entrades des de fa setmanes. I el portarà a l’escenari menorquí el 17 de juliol. \nEnguany ens retorna la visita de l’any passat\, aquest cop però a l’escenari d’Es Claustre amb tota sa banda. \n  \n\n\n 
URL:https://esclaustre.com/en/event/javi-medina-menorca/
LOCATION:Es Claustre\, Pati del Claustre del Carme\, 50\, Maó\, illes balears\, 07701
CATEGORIES:Agenda Menorca,Altres esdeveniments
ATTACH;FMTTYPE=image/jpeg:https://esclaustre.com/wp-content/uploads/2025/05/Javi_Medina-1.jpeg
ORGANIZER;CN="ES CLAUSTRE":MAILTO:info@esclaustre.com
GEO:39.888632;4.266257
X-APPLE-STRUCTURED-LOCATION;VALUE=URI;X-ADDRESS=Es Claustre Pati del Claustre del Carme 50 Maó illes balears 07701;X-APPLE-RADIUS=500;X-TITLE=Pati del Claustre del Carme\, 50:geo:4.266257,39.888632
END:VEVENT
BEGIN:VEVENT
DTSTART;TZID=Europe/Madrid:20260711T210000
DTEND;TZID=Europe/Madrid:20260711T233000
DTSTAMP:20260423T182906
CREATED:20260206T173155Z
LAST-MODIFIED:20260414T213633Z
UID:10007418-1783803600-1783812600@esclaustre.com
SUMMARY:Lucia Fumero
DESCRIPTION:«Lucia Fumero» Folklore\nLucia Fumero returns with a double album that mixes the spirit of traditional song with jazz. Folklore is the result of a process of research for her own roots and musical and vital influences and crystallizes in a compendium of original songs with a folkloric feel\, without giving up instrumental themes articulated from the language of jazz and with her usual trio as performers. \nThe richness of her Catalan\, Argentine and Swiss origins\, and her circle of artistic friends\, explain why Lucia Fumero is consolidating herself by leaps and bounds as an honest and imaginative composer\, virtues that\, together with her mastery of the piano\, she complements in this new project with the use of the guitar and her voice\, as light as it is natural. \nFormed between Barcelona and Rotterdam\, Lucia Fumero won with her first album the 1st Prize of Juventudes Musicales de España (2021) and the Best Emerging Band Award from the Jazz Spain Platform (2022). Fumero regularly plays on the most representative stages of Spanish jazz and has been invited by the Barcelona Jazz Festival\, Terrassa Jazz Festival\, Getxo Jazz Festival\, San Sebastián Jazz Festival – Jazzaldia\, Cádiz Jazz Festival\, Madrid Jazz Festival\, Barcelona Grec Festival and La Mercè\, as well as debuting in Greece (Athens Jazz Festival)\, Budapest\, Germany\, Hungary\, Sweden\, Portugal and in the USA. \nLucia Fumero\, piano and voice\nMartín Leiton / Magalí Datzira: double bass and leona\nJuan R. Berbín\, drums and percussion \n  \n  \n\n 
URL:https://esclaustre.com/en/event/lucia-fumero/
LOCATION:Es Claustre\, Pati del Claustre del Carme\, 50\, Maó\, illes balears\, 07701
CATEGORIES:Agenda Menorca,Altres esdeveniments,SLIDE HOME
ATTACH;FMTTYPE=image/jpeg:https://esclaustre.com/wp-content/uploads/2026/02/Lucia_Fumero-.jpeg
ORGANIZER;CN="ES CLAUSTRE":MAILTO:info@esclaustre.com
GEO:39.888632;4.266257
X-APPLE-STRUCTURED-LOCATION;VALUE=URI;X-ADDRESS=Es Claustre Pati del Claustre del Carme 50 Maó illes balears 07701;X-APPLE-RADIUS=500;X-TITLE=Pati del Claustre del Carme\, 50:geo:4.266257,39.888632
END:VEVENT
BEGIN:VEVENT
DTSTART;TZID=Europe/Madrid:20260715T210000
DTEND;TZID=Europe/Madrid:20260715T233000
DTSTAMP:20260423T182906
CREATED:20260206T144820Z
LAST-MODIFIED:20260206T155844Z
UID:10007409-1784149200-1784158200@esclaustre.com
SUMMARY:Molotov
DESCRIPTION:«Molotov»\, una banda referente de la resistencia y la crítica social \nLos mexicanos Molotov encenderán el escenario de Es Claustre\, en una noche cargada de energía\, himnos de protesta y su inconfundible fusión de rock\, punk\, metal e hip-hop. \nFundada en la Ciudad de México\, la banda construyó una carrera a partir de letras incendiarias y explosivas que conectaron con millones de personas de diferentes generaciones alrededor del mundo\, sumado a sus legendarios y poderosos shows en vivo Molotov se consolidó como uno de los pesos pesados de Hispanoamérica. Su estilo directo\, singular e irreverente los ha llevado por todo el planeta\, el festival de Viña del Mar\, diversas ediciones del Vive Latino\, los mundiales de fútbol en Alemania y Rusia y directos a reventar de Berlín a Buenos Aires han sido testigos de la autenticidad y bomba en vivo que es Molotov. \nTres décadas girando los han hecho dignos de hacerse la reputación de la banda más poderosa de México. Después de una extensa gira de 30 aniversario que los llevó por Europa\, Sudamérica\, los Estados Unidos y México\, la banda encara el 2026 con música nueva y más presentaciones en vivo. \n  \n\n 
URL:https://esclaustre.com/en/event/molotov/
LOCATION:Es Claustre\, Pati del Claustre del Carme\, 50\, Maó\, illes balears\, 07701
CATEGORIES:Agenda Menorca,SLIDE HOME
ATTACH;FMTTYPE=image/jpeg:https://esclaustre.com/wp-content/uploads/2026/02/Molotov.jpeg
ORGANIZER;CN="ES CLAUSTRE":MAILTO:info@esclaustre.com
GEO:39.888632;4.266257
X-APPLE-STRUCTURED-LOCATION;VALUE=URI;X-ADDRESS=Es Claustre Pati del Claustre del Carme 50 Maó illes balears 07701;X-APPLE-RADIUS=500;X-TITLE=Pati del Claustre del Carme\, 50:geo:4.266257,39.888632
END:VEVENT
BEGIN:VEVENT
DTSTART;TZID=Europe/Madrid:20260717T210000
DTEND;TZID=Europe/Madrid:20260717T233000
DTSTAMP:20260423T182906
CREATED:20260224T123133Z
LAST-MODIFIED:20260224T134513Z
UID:10007424-1784322000-1784331000@esclaustre.com
SUMMARY:Mishima
DESCRIPTION:«Mishima»\, order and adventure in Es Claustre\nFollowing the brutal shock of the death of Marc Lloret\, keyboardist and fundamental pillar of the band\, Mishima have found in his example and memory the strength to redouble their artistic commitment\, always between communion and catharsis.‘L’aigua clara’\, their latest album\, is celebrating its third birthday\, and to mark the occasion\, David Carabén (vocals and guitar)\, Dani Vega (guitar)\, Xavi Caparrós(bass)\, Alfons Serra (drums)\, and Bernat Sánchez (keyboards) will be giving a concert featuring their three indelible hallmarks: their loyalty to the short distance\, their close contact with the audience\, and their repertoire that has made history with songs that speak to us of order and adventure\, of the longing that heals\, and of their personal way of understanding rock and indie. With two ARC awards for their tours and five Enderrock awards for their albums\, this group\, which pays tribute to the Japanese writer Yukio Mishima\, is already one of the essentials of Catalan music. \nA band that has visited us in previous editions\, but that hasn’t visited Es Claustre. in a long time. The desire is immense. \n. \n 
URL:https://esclaustre.com/en/event/mishima/
LOCATION:Es Claustre\, Pati del Claustre del Carme\, 50\, Maó\, illes balears\, 07701
CATEGORIES:Agenda Menorca,SLIDE HOME
ATTACH;FMTTYPE=image/jpeg:https://esclaustre.com/wp-content/uploads/2026/02/Mishima.jpeg
ORGANIZER;CN="ES CLAUSTRE":MAILTO:info@esclaustre.com
GEO:39.888632;4.266257
X-APPLE-STRUCTURED-LOCATION;VALUE=URI;X-ADDRESS=Es Claustre Pati del Claustre del Carme 50 Maó illes balears 07701;X-APPLE-RADIUS=500;X-TITLE=Pati del Claustre del Carme\, 50:geo:4.266257,39.888632
END:VEVENT
BEGIN:VEVENT
DTSTART;TZID=Europe/Madrid:20260718T210000
DTEND;TZID=Europe/Madrid:20260718T233000
DTSTAMP:20260423T182907
CREATED:20260225T143351Z
LAST-MODIFIED:20260225T144103Z
UID:10007439-1784408400-1784417400@esclaustre.com
SUMMARY:Depedro
DESCRIPTION:«Depedro» Un lugar Perfecto\nDepedro ens visita de novament Es Claustre\, enguany en format acústic. És el projecte musical d’en Jairo Zavala\, iniciat l’any 2008 amb el disc «Depedro» enregistrat amb la banda nordamericana Calexico a Tucson Arizona. \nL’univers Depedro s’ha transformat i viatjat per influències de Llatinoamèrica\, Àfrica\, el Mediterràni o els Estats Units assolint un recorregut pels treballs –Depedro \, Nubes de Papel\, La Increíble Historia de un Hombre Bueno i El Pasajero–  diversos Eps i singles\, així com també el pas pel documental «Casamance» sobre el seu viatge musical pel Senegal juntament amb l’Ángel Carmona de Radio3. \nEl seu directe ha volat pels cinc continents i ha realitzat gires pels Estats Units\, Mèxic\, Argentina\, centre Amèrica\, Brasil\, Australia\, Nova Zelanda\, Xina\, África\, Europa i Rusia…Els seus discs publicats en més de 30 països i les seves col·laboracions amb músics de tot el món en diferents idiomes i de procèdències culturals molt diverses son una senyal de l’identitat de l’artista. \nDesprés de cinc àlbums publicats i col·laboracions amb alguns dels noms més potents de l’escena com Vetusta Morla o Santi Balmes\, entre molts d’altres\, aquest artista madrileny torna amb el nou disc Un lugar perfecto\, que teixirà una geografia folklòrica i emocional de la memòria i un camí entre l’ansietat i l’esperança. Jairo Zavala està convençut que la vida es queda als llocs on sentim i ens ho demostrarà al seu concert grandiosament íntim. \n 
URL:https://esclaustre.com/en/event/depedro-3/
LOCATION:Es Claustre\, Pati del Claustre del Carme\, 50\, Maó\, illes balears\, 07701
CATEGORIES:Agenda Menorca,SLIDE HOME
ATTACH;FMTTYPE=image/jpeg:https://esclaustre.com/wp-content/uploads/2026/02/Depedro.jpeg
ORGANIZER;CN="ES CLAUSTRE":MAILTO:info@esclaustre.com
GEO:39.888632;4.266257
X-APPLE-STRUCTURED-LOCATION;VALUE=URI;X-ADDRESS=Es Claustre Pati del Claustre del Carme 50 Maó illes balears 07701;X-APPLE-RADIUS=500;X-TITLE=Pati del Claustre del Carme\, 50:geo:4.266257,39.888632
END:VEVENT
BEGIN:VEVENT
DTSTART;TZID=Europe/Madrid:20260721T210000
DTEND;TZID=Europe/Madrid:20260721T233000
DTSTAMP:20260423T182907
CREATED:20260417T155727Z
LAST-MODIFIED:20260417T160736Z
UID:10007510-1784667600-1784676600@esclaustre.com
SUMMARY:Paco Pecado
DESCRIPTION:«Paco Pecado»\, party with a bandit and bohemian spirit.\nPaco Pecado is a free spirit with the soul of a bandit\, a taste for the ‘70s\, and a particular fondness for kitsch\, retro\, and vintage. A devotee of the decadent and the bohemian\, he can be crowned King of the Party or embody the most fragile driver of melodramatic sentimentality. \nPaco has found a new direction with the release of his album Entre Bodegas y Ferias (Between Wineries and Fairs) in early 2025. In this work\, he combines his retro influences with sincere lyrics and visuals that portray his unique artistic universe. This album marks a turning point in his career\, not only for its creative maturity\, but also for the recognition it has received: he won the First Prize at Rock Villa 2025 in Madrid\, one of the most prestigious competitions for emerging talent. \nHis festive\, irreverent live show\, deeply connected with the audience\, perfectly showcases his taste for uniting Iberian and Latin American folklores and his unique style where rumba\, bolero\, fairground music\, pop and electronic music meet. After having released several singles\, Paco Pecado  has unveiled his debut album\, ‘Entre Bodegas y Ferias’\, along with various collaborations with Maria Rodés\, Habla de Mí en Presente or Kris Tena\, bringing together nearly 70\,000 monthly listeners. \nGet ready to dance? We are waiting for you at Es Claustre\n  \n  \n\n  \n\n 
URL:https://esclaustre.com/en/event/paco-pecado/
LOCATION:Es Claustre\, Pati del Claustre del Carme\, 50\, Maó\, illes balears\, 07701
CATEGORIES:Agenda Menorca,Altres esdeveniments
ATTACH;FMTTYPE=image/jpeg:https://esclaustre.com/wp-content/uploads/2026/04/paco-pecado.jpeg
ORGANIZER;CN="ES CLAUSTRE":MAILTO:info@esclaustre.com
GEO:39.888632;4.266257
X-APPLE-STRUCTURED-LOCATION;VALUE=URI;X-ADDRESS=Es Claustre Pati del Claustre del Carme 50 Maó illes balears 07701;X-APPLE-RADIUS=500;X-TITLE=Pati del Claustre del Carme\, 50:geo:4.266257,39.888632
END:VEVENT
BEGIN:VEVENT
DTSTART;TZID=Europe/Madrid:20260722T233000
DTEND;TZID=Europe/Madrid:20260722T233000
DTSTAMP:20260423T182907
CREATED:20260224T162307Z
LAST-MODIFIED:20260224T163308Z
UID:10007430-1784763000-1784763000@esclaustre.com
SUMMARY:Maria Jaume
DESCRIPTION:Maria Jaume\, Sant Domingo Forever\nMaria Jaume is a standout artist in today’s Catalan music scene. The Mallorcan singer has captivated audiences with her electronic indie-pop\, blending styles with elegance and without boundaries. Her lyrics\, full of sharp irony\, are delivered like no one else\, and paired with her unique voice and magnetic personality\, her music is destined to join the ranks of timeless records. Her latest album\, Nostàlgia Airlines\, was recognized by both the Enderrock Awards and the MIN Awards\, solidifying her status as an essential figure in contemporary music. \nIn 2026\, Maria Jaume will unveil a new album and embark on a tour full of surprises\, featuring a stage production that immerses audiences in her signature Mediterranean magical realism. The tour will visit some of the country’s most prestigious venues\, offering a one-of-a-kind experience not to be missed. Without a doubt\, this will be a tour that propels her straight to the top. \n  \n  \n\n 
URL:https://esclaustre.com/en/event/maria-jaume-2/
LOCATION:Es Claustre\, Pati del Claustre del Carme\, 50\, Maó\, illes balears\, 07701
CATEGORIES:Agenda Menorca,Altres esdeveniments
ATTACH;FMTTYPE=image/jpeg:https://esclaustre.com/wp-content/uploads/2026/02/Maria-Jaume-2026-Arnau-Vadell-3.jpeg
ORGANIZER;CN="ES CLAUSTRE":MAILTO:info@esclaustre.com
GEO:39.888632;4.266257
X-APPLE-STRUCTURED-LOCATION;VALUE=URI;X-ADDRESS=Es Claustre Pati del Claustre del Carme 50 Maó illes balears 07701;X-APPLE-RADIUS=500;X-TITLE=Pati del Claustre del Carme\, 50:geo:4.266257,39.888632
END:VEVENT
BEGIN:VEVENT
DTSTART;TZID=Europe/Madrid:20260724T210000
DTEND;TZID=Europe/Madrid:20260724T233000
DTSTAMP:20260423T182907
CREATED:20260410T142547Z
LAST-MODIFIED:20260410T143200Z
UID:10007489-1784926800-1784935800@esclaustre.com
SUMMARY:Maria Rodés
DESCRIPTION:«Maria Rodés» presents Lo que Me pasa\nLo Que Me Pasa moves between two forces that clash\, intersect\, twist\, and dance in an exercise of inspiration that is\, from now on\, unique in the national music scene. On one hand\, there’s the tension of the theme that underpins it: romantic obsession\, that place where love gets confused with faith\, and devotion turns into condemnation\, inspired by the story of Lidia de Cadaqués\, a real woman (daughter of a witch) who suffered from erotomania. On the other hand\, there’s the stylistic freedom embraced by the Catalan artist in an act of creative impunity that overwhelms with the natural ease with which our former folk singer plays with electronic textures and shreds genres like rumba\, flamenco\, reggaeton\, bachata\, synthpop\, or bossa nova. Maria Rodés harnesses the inertia of both currents to turn this entire flow into an intimate and direct narrative where vulnerability becomes strength. \nMaria Rodés visited us in the past\, at the beginning of Llevant Ponent\, and now we will enjoy her again on the stage of Es Claustre.\n 
URL:https://esclaustre.com/en/event/maria-rodes/
LOCATION:Es Claustre\, Pati del Claustre del Carme\, 50\, Maó\, illes balears\, 07701
CATEGORIES:Agenda Menorca,Altres esdeveniments
ATTACH;FMTTYPE=image/jpeg:https://esclaustre.com/wp-content/uploads/2026/04/Maria_Rodes.jpeg
ORGANIZER;CN="ES CLAUSTRE":MAILTO:info@esclaustre.com
GEO:39.888632;4.266257
X-APPLE-STRUCTURED-LOCATION;VALUE=URI;X-ADDRESS=Es Claustre Pati del Claustre del Carme 50 Maó illes balears 07701;X-APPLE-RADIUS=500;X-TITLE=Pati del Claustre del Carme\, 50:geo:4.266257,39.888632
END:VEVENT
BEGIN:VEVENT
DTSTART;TZID=Europe/Madrid:20260729T210000
DTEND;TZID=Europe/Madrid:20260729T233000
DTSTAMP:20260423T182907
CREATED:20260224T183639Z
LAST-MODIFIED:20260224T184347Z
UID:10007433-1785358800-1785367800@esclaustre.com
SUMMARY:PABLOPABLO
DESCRIPTION:«PABLOPABLO»\, canciones en Mi\nIncreasingly present and essential\, whether as a producer or performing his own songs\, Pabloopablo finally unveils his long-awaited debut album\, a work that distills his musical versatility and growing talent as a lyricist. Described by its creator as “an ode to simplicity” and composed with the guitar as the main protagonist\, Canciones En Mi —its title referring to the fact that most of the songs are written in the key of E major— is also the culmination of an extraordinary creative journey that takes on new life on stage\, accompanied by his bandmates Lyle Burton (drums) and Simeon May (saxophone). \nPablopablo a concert you can’t miss in Es Claustre. \n 
URL:https://esclaustre.com/en/event/pablopablo/
LOCATION:Es Claustre\, Pati del Claustre del Carme\, 50\, Maó\, illes balears\, 07701
CATEGORIES:Agenda Menorca,Altres esdeveniments
ATTACH;FMTTYPE=image/jpeg:https://esclaustre.com/wp-content/uploads/2026/02/pablopablo.jpeg
ORGANIZER;CN="ES CLAUSTRE":MAILTO:info@esclaustre.com
GEO:39.888632;4.266257
X-APPLE-STRUCTURED-LOCATION;VALUE=URI;X-ADDRESS=Es Claustre Pati del Claustre del Carme 50 Maó illes balears 07701;X-APPLE-RADIUS=500;X-TITLE=Pati del Claustre del Carme\, 50:geo:4.266257,39.888632
END:VEVENT
BEGIN:VEVENT
DTSTART;TZID=Europe/Madrid:20260731T210000
DTEND;TZID=Europe/Madrid:20260731T233000
DTSTAMP:20260423T182907
CREATED:20260410T150529Z
LAST-MODIFIED:20260410T151031Z
UID:10007492-1785531600-1785540600@esclaustre.com
SUMMARY:Muchachito Bombo Infierno
DESCRIPTION:«Muchachito Bombo Infierno» & Menorca!\nJairo Perera\, also known as Muchachito Bombo Infierno\, is a Catalan musician who emerged from the street scene of Barcelona in the nineties. His fifth studio album\, “”What Could Go Wrong\,”” recorded between 2021 and 2023\, showcases his artistic maturity with a fusion of Catalan rumba\, funk\, and jazz-hot. Produced in his own studio\, it features collaborations with prominent musicians and a visual component designed by Joni Ferzeta. With witty lyrics addressing everyday topics\, the album concludes with a message of hope\, cementing Muchachito’s place in the Spanish mestizo music scene. \n 
URL:https://esclaustre.com/en/event/30979/
LOCATION:Es Claustre\, Pati del Claustre del Carme\, 50\, Maó\, illes balears\, 07701
CATEGORIES:Agenda Menorca,SLIDE HOME
ATTACH;FMTTYPE=image/jpeg:https://esclaustre.com/wp-content/uploads/2026/04/MUCHACHITO-BOMBO-INFIERNO-©-GUSTAFF-CHOOS-DSCF2471.jpeg
ORGANIZER;CN="ES CLAUSTRE":MAILTO:info@esclaustre.com
GEO:39.888632;4.266257
X-APPLE-STRUCTURED-LOCATION;VALUE=URI;X-ADDRESS=Es Claustre Pati del Claustre del Carme 50 Maó illes balears 07701;X-APPLE-RADIUS=500;X-TITLE=Pati del Claustre del Carme\, 50:geo:4.266257,39.888632
END:VEVENT
END:VCALENDAR