BEGIN:VCALENDAR
VERSION:2.0
PRODID:-//Es Claustre - ECPv6.15.15//NONSGML v1.0//EN
CALSCALE:GREGORIAN
METHOD:PUBLISH
X-WR-CALNAME:Es Claustre
X-ORIGINAL-URL:https://esclaustre.com/en/
X-WR-CALDESC:Events for Es Claustre
REFRESH-INTERVAL;VALUE=DURATION:PT1H
X-Robots-Tag:noindex
X-PUBLISHED-TTL:PT1H
BEGIN:VTIMEZONE
TZID:Europe/Madrid
BEGIN:DAYLIGHT
TZOFFSETFROM:+0100
TZOFFSETTO:+0200
TZNAME:CEST
DTSTART:20250330T010000
END:DAYLIGHT
BEGIN:STANDARD
TZOFFSETFROM:+0200
TZOFFSETTO:+0100
TZNAME:CET
DTSTART:20251026T010000
END:STANDARD
BEGIN:DAYLIGHT
TZOFFSETFROM:+0100
TZOFFSETTO:+0200
TZNAME:CEST
DTSTART:20260329T010000
END:DAYLIGHT
BEGIN:STANDARD
TZOFFSETFROM:+0200
TZOFFSETTO:+0100
TZNAME:CET
DTSTART:20261025T010000
END:STANDARD
BEGIN:DAYLIGHT
TZOFFSETFROM:+0100
TZOFFSETTO:+0200
TZNAME:CEST
DTSTART:20270328T010000
END:DAYLIGHT
BEGIN:STANDARD
TZOFFSETFROM:+0200
TZOFFSETTO:+0100
TZNAME:CET
DTSTART:20271031T010000
END:STANDARD
END:VTIMEZONE
BEGIN:VEVENT
DTSTART;TZID=Europe/Madrid:20260801T210000
DTEND;TZID=Europe/Madrid:20260801T233000
DTSTAMP:20260423T200501
CREATED:20260206T163815Z
LAST-MODIFIED:20260415T082616Z
UID:10007415-1785618000-1785627000@esclaustre.com
SUMMARY:Belen Natalí
DESCRIPTION:«Belen Natalí»\, arrel i modernitat amb una identitat sonora inconfusible.\nEstablerta des de fa anys a Barcelona\, l’argentina Belén Natalí fusiona pop lo-fi\, R&B\, reggae i ritmes llatinoamericans amb una sensibilitat lírica única. Després del seu EP Jacarandá Jacarandá(2023)\, on van brillar les col·laboracions amb Ferran Palau i Santa Salut\, i singles com “Diluvio” o “Camping”\, 2026 marca el llançament del seu primer àlbum\, amb col·laboracions de pes com Ana Tijoux (“SANTA ROSA”)\, i una proposta cada cop més sòlida i personal.\n\nEl seu directe\, fresc i íntim\, ha crescut amb força en escenaris com Embassa’t (Sabadell)\, Primavera Sound (Primavera a la Ciutat\, Barcelona) o Sound Isidro (Madrid)\, compartint cartell i actuacions amb artistes com Lia Kali\, Isla de Caras\, Dante Spinetta o Son Rompe Pera. \nBelén Natalí emergeix com una de les veus més interessants del panorama alternatiu\, combinant arrel i modernitat amb una identitat sonora inconfusible. \n\n 
URL:https://esclaustre.com/en/event/belen-natali/
LOCATION:Es Claustre\, Pati del Claustre del Carme\, 50\, Maó\, illes balears\, 07701
CATEGORIES:Agenda Menorca,Altres esdeveniments
ATTACH;FMTTYPE=image/jpeg:https://esclaustre.com/wp-content/uploads/2026/02/BELEN_RIO_MAFE_ESPITIA.jpeg
ORGANIZER;CN="ES CLAUSTRE":MAILTO:info@esclaustre.com
GEO:39.888632;4.266257
X-APPLE-STRUCTURED-LOCATION;VALUE=URI;X-ADDRESS=Es Claustre Pati del Claustre del Carme 50 Maó illes balears 07701;X-APPLE-RADIUS=500;X-TITLE=Pati del Claustre del Carme\, 50:geo:4.266257,39.888632
END:VEVENT
BEGIN:VEVENT
DTSTART;TZID=Europe/Madrid:20260807T210000
DTEND;TZID=Europe/Madrid:20260807T233000
DTSTAMP:20260423T200501
CREATED:20260225T092517Z
LAST-MODIFIED:20260225T093729Z
UID:10007436-1786136400-1786145400@esclaustre.com
SUMMARY:Queralt Lahoz
DESCRIPTION:«Queralt Lahoz» Favorosa Tour\nQueralt Lahoz\, a singer-songwriter from Santa Coloma de Gramenet\, moves effortlessly between flamenco\, bolero\, hip-hop\, pop\, and dancehall\, performing her newest album\, 9:30 PM\, with the emotional depth and fearless artistry that has defined her career. \n\nQueralt Lahoz is\, without a doubt\, one of the musical sensations of recent years in our country\, and now also beyond its borders. Recently awarded with one of the prestigious Music Moves Europe 2023 prizes\, granted by the European Union\, she is one of the artists with the most present and future of the national scene\, leading one of the most groundbreaking and attractive musical proposals of the moment. \n\n  \n  \n\n  \n 
URL:https://esclaustre.com/en/event/queralt-lahoz-3/
LOCATION:Es Claustre\, Pati del Claustre del Carme\, 50\, Maó\, illes balears\, 07701
CATEGORIES:Agenda Menorca,SLIDE HOME
ATTACH;FMTTYPE=image/jpeg:https://esclaustre.com/wp-content/uploads/2026/02/QueraltLahoz_.jpg
ORGANIZER;CN="ES CLAUSTRE":MAILTO:info@esclaustre.com
GEO:39.888632;4.266257
X-APPLE-STRUCTURED-LOCATION;VALUE=URI;X-ADDRESS=Es Claustre Pati del Claustre del Carme 50 Maó illes balears 07701;X-APPLE-RADIUS=500;X-TITLE=Pati del Claustre del Carme\, 50:geo:4.266257,39.888632
END:VEVENT
BEGIN:VEVENT
DTSTART;TZID=Europe/Madrid:20260808T210000
DTEND;TZID=Europe/Madrid:20260808T233000
DTSTAMP:20260423T200501
CREATED:20260411T150413Z
LAST-MODIFIED:20260413T060235Z
UID:10007495-1786222800-1786231800@esclaustre.com
SUMMARY:Muchacho & Los Sobrinos
DESCRIPTION:Muchacho & Los Sobrinos\, rumba rumbera\nCatalan\, Barcelona\, Carrer de la Cera and Hostafrancs gypsies. Childhood friends\, family and siblings. Their rumba was developed from gypsy celebrations\, weddings\, conventions and concerts. They are the legacy of Peret\, the king of the rumba\, and also Pescaílla\, Chipén and Estrellas de Gràcia\, to name a few. Their vision is to avoid mixing rumba with other genres; they present a pure and authentic Catalan rumba\, with the “ventilador” as the cornerstone of their compositions. They avoid traditional concerts; instead they put on juergas (celebrations) with their own songs and versions of Catalan rumba classics which may even feature a dancer or two. \nThe music they play in the intimate gypsy community in Barcelona is brought to the stage with uninhibited style and is\, at times\, improvised. \nIt is an authentic way to experience their juergas (celebrations) and festivals. \n  \n\n 
URL:https://esclaustre.com/en/event/muchacho-los-sobrinos/
LOCATION:Es Claustre\, Pati del Claustre del Carme\, 50\, Maó\, illes balears\, 07701
CATEGORIES:Agenda Menorca,Altres esdeveniments
ATTACH;FMTTYPE=image/jpeg:https://esclaustre.com/wp-content/uploads/2026/04/Muchacho-Los-Sobrinos.jpeg
ORGANIZER;CN="ES CLAUSTRE":MAILTO:info@esclaustre.com
GEO:39.888632;4.266257
X-APPLE-STRUCTURED-LOCATION;VALUE=URI;X-ADDRESS=Es Claustre Pati del Claustre del Carme 50 Maó illes balears 07701;X-APPLE-RADIUS=500;X-TITLE=Pati del Claustre del Carme\, 50:geo:4.266257,39.888632
END:VEVENT
BEGIN:VEVENT
DTSTART;TZID=Europe/Madrid:20260812T210000
DTEND;TZID=Europe/Madrid:20260812T233000
DTSTAMP:20260423T200502
CREATED:20260225T151107Z
LAST-MODIFIED:20260225T152131Z
UID:10007442-1786568400-1786577400@esclaustre.com
SUMMARY:Júlia Colom
DESCRIPTION:«Júlia Colom»\,  Paradís\nAlready established as one of the most distinctive voices of the moment\, Júlia Colom’s (Valldemossa\, 1997) artistry is as personal as it is complex. Combining her roots\, experience\, and honesty with an artistic curiosity that takes her beyond trends\, Colom offers a pop fusion that not only captures the musical moment we live in but also surpasses it. \nThe artist’s identity was born from a life nurtured in music: the centuries-old Cant de la Sibil·la was the first song she learned to sing at the age of six\, with her grandfather as her teacher. When she turned eighteen\, Colom moved to Barcelona to study singing\, and it was there that she began to develop her knowledge of jazz\, composition\, and production — elements that can be heard in her work today. \nDuring her professional vocal training\, Colom embarked on a journey to research the music of Mallorca’s oral tradition — a project followed by filmmaker Joan Porcel in the documentary Sempre Dijous\, where we see the singer recovering the folklore of the land where she grew up. Colom then transformed this knowledge through her artistic vision\, resulting in her debut album Miramar\, acclaimed by audiences and critics alike. \nIn 2025\, the singer-songwriter returns with Paradís\, in which Colom showcases her compositional language\, transcending the limits of genres such as electronica\, pop\, and folk\, while also taking on the role of producer alongside Martín Leiton and Òscar Garrobé. In addition to the musical concept\, Colom makes herself heard through verses as raw as they are sensitive\, full of imagery\, landscapes\, and dreamlike evocations that explore themes such as loneliness\, creation\, and love. Paradís preserves the singer’s identity and the musical heritage of Mallorcan folk song\, but expands towards a complex\, playful\, precious\, and emotional form of pop. \n  \n 
URL:https://esclaustre.com/en/event/julia-colom-2/
LOCATION:Es Claustre\, Pati del Claustre del Carme\, 50\, Maó\, illes balears\, 07701
CATEGORIES:Agenda Menorca,Altres esdeveniments
ATTACH;FMTTYPE=image/jpeg:https://esclaustre.com/wp-content/uploads/2026/02/Julia-Colom-.jpeg
ORGANIZER;CN="ES CLAUSTRE":MAILTO:info@esclaustre.com
GEO:39.888632;4.266257
X-APPLE-STRUCTURED-LOCATION;VALUE=URI;X-ADDRESS=Es Claustre Pati del Claustre del Carme 50 Maó illes balears 07701;X-APPLE-RADIUS=500;X-TITLE=Pati del Claustre del Carme\, 50:geo:4.266257,39.888632
END:VEVENT
BEGIN:VEVENT
DTSTART;TZID=Europe/Madrid:20260814T210000
DTEND;TZID=Europe/Madrid:20260814T233000
DTSTAMP:20260423T200502
CREATED:20260328T113839Z
LAST-MODIFIED:20260328T114248Z
UID:10007465-1786741200-1786750200@esclaustre.com
SUMMARY:The New Mastersounds
DESCRIPTION:«The New Mastersounds» return to Es Claustre\nThe New Mastersounds have been delighting audiences with their infectious brand of funky soul-jazz since they formed in Leeds\, England in 1999. For the first five years of the band’s career they were regulars at the Jazz Café in London\, before they began to turn heads on the funk scene in the US\, where  \nguitarist/producer/bandleader Eddie Roberts now lives. For over a decade they have been a staple act of the late-night scene during New Orleans’ annual Jazz Fest. Always happy to hit the studio between tours\, this veteran band now boasts a rich recorded catalogue that includes fifteen original studio albums\, four live albums\, several compilations\, and a remix album.  \nThough they have collaborated over the years with such musical luminaries as Maceo Parker\, Fred Wesley\, Corinne Bailey Rae\, Art Neville\, Bernard Purdie and Lou Donaldson\, they are at their best on stage as a tightly-packed quartet – bass\, drums\, guitar and keyboards – firing off scorching grooves and feeding on the energy of the dancers in the front row. \nSimon Allen DRUMS | Pete Shand BASS | Eddie Roberts GUITAR | Joe Tatton ORGAN & PIANO \nhttps://www.newmastersounds.com/ \n 
URL:https://esclaustre.com/en/event/the-new-mastersounds-2/
LOCATION:Es Claustre\, Pati del Claustre del Carme\, 50\, Maó\, illes balears\, 07701
CATEGORIES:Agenda Menorca,Altres esdeveniments
ATTACH;FMTTYPE=image/jpeg:https://esclaustre.com/wp-content/uploads/2026/03/TheNewMastersounds.jpg
ORGANIZER;CN="ES CLAUSTRE":MAILTO:info@esclaustre.com
GEO:39.888632;4.266257
X-APPLE-STRUCTURED-LOCATION;VALUE=URI;X-ADDRESS=Es Claustre Pati del Claustre del Carme 50 Maó illes balears 07701;X-APPLE-RADIUS=500;X-TITLE=Pati del Claustre del Carme\, 50:geo:4.266257,39.888632
END:VEVENT
BEGIN:VEVENT
DTSTART;TZID=Europe/Madrid:20260815T210000
DTEND;TZID=Europe/Madrid:20260815T233000
DTSTAMP:20260423T200502
CREATED:20260420T125422Z
LAST-MODIFIED:20260420T130159Z
UID:10007519-1786827600-1786836600@esclaustre.com
SUMMARY:Alfred García
DESCRIPTION:«Alfred García»\, eufòricament rumber i nous temes.\nAlfred García es prepara per conquerir escenaris de tot l’Estat amb una nova gira que promet ser una experiència musical única. Després d’emocionar-nos amb 1016 i demostrar la seva versatilitat com a productor amb 1997\, Alfred inicia la seva tercera gira\, centrada en el seu darrer disc T’estimo es te quiero (2025)\, acompanyat d’una banda de cinc músics i amb una posada en escena inspirada en els seus videoclips més icònics. \nAquest nou espectacle combina els grans èxits del seu primer disc amb les cançons del seu últim treball\, que inclou col·laboracions amb artistes com Carlos Sadness i Álvaro Soler. Entre els moments més destacats del directe hi ha temes com Els teus ulls\, Llamas en el cielo o Rumba catalana\, que Alfred transforma en instants especials gràcies al seu talent com a multiinstrumentista — alternant guitarra elèctrica\, acústica\, piano i trombó. \nDurant l’estiu de 2025 ha passat per festivals com Nec Festival\, Festival Rentadors i Nits de Tramuntana\, consolidant-se com un dels artistes més estimats i versàtils del panorama actual. \nDe cara al 2026\, Alfred García prepara nous temes i una gira que el farà aturar Es Claustre\, amb un format més rumber i festiu\, una evolució que promet connectar encara més amb el públic i fer d’aquest nou any el seu moment més important a l’escena musical. \n  \n\n 
URL:https://esclaustre.com/en/event/alfred-garcia/
LOCATION:Es Claustre\, Pati del Claustre del Carme\, 50\, Maó\, illes balears\, 07701
CATEGORIES:Agenda Menorca,Altres esdeveniments
ATTACH;FMTTYPE=image/jpeg:https://esclaustre.com/wp-content/uploads/2026/04/Alfred_Garcia.jpeg
ORGANIZER;CN="ES CLAUSTRE":MAILTO:info@esclaustre.com
GEO:39.888632;4.266257
X-APPLE-STRUCTURED-LOCATION;VALUE=URI;X-ADDRESS=Es Claustre Pati del Claustre del Carme 50 Maó illes balears 07701;X-APPLE-RADIUS=500;X-TITLE=Pati del Claustre del Carme\, 50:geo:4.266257,39.888632
END:VEVENT
BEGIN:VEVENT
DTSTART;TZID=Europe/Madrid:20260819T210000
DTEND;TZID=Europe/Madrid:20260819T233000
DTSTAMP:20260423T200502
CREATED:20260224T155320Z
LAST-MODIFIED:20260327T185915Z
UID:10007427-1787173200-1787182200@esclaustre.com
SUMMARY:Ginestà
DESCRIPTION:«Ginestà»\, crèixer és estimar\nGinestà s’ha consolidat com un dels grups imprescindibles del pop català. Els germans Júlia i Pau Serrasolsas van enlluernar de nou amb Vida Meva (2024)\, un disc que els va valer dos Premis Enderrock i el reconeixement com a Disc Català de l’Any. El 2025 van desenvolupar l’imaginari del disc publicant l’EP Només viure\, confirmant així el seu moment d’esplendor i la seva capacitat per emocionar amb un univers sonor propi i una connexió única amb el sentir del públic català. \nAmb més de 90 actuacions entre 2024 i 2025\, han exhaurit entrades a la sala Apolo i han estat protagonistes de festivals com Porta Ferrada\, Cabró Rock\, Canet Rock\, L’Acústica o La Mercè. El 2026\, Ginestà encetarà una nova etapa amb la publicació del seu nou àlbum més esperat\, ganes boges per part del públic i programadors que els reafirmen com una de les propostes més inspiradores\, compromeses socialment i estimades de l’escena musical catalana. \nGinestà ja ens havia visitat Es Claustre en el seus inicis i ara els esperem de nou amb moltes ganes. \n  \n\n 
URL:https://esclaustre.com/en/event/ginesta-2/
LOCATION:Es Claustre\, Pati del Claustre del Carme\, 50\, Maó\, illes balears\, 07701
CATEGORIES:Agenda Menorca,SLIDE HOME
ATTACH;FMTTYPE=image/jpeg:https://esclaustre.com/wp-content/uploads/2026/02/GINESTA-1.jpeg
ORGANIZER;CN="ES CLAUSTRE":MAILTO:info@esclaustre.com
GEO:39.888632;4.266257
X-APPLE-STRUCTURED-LOCATION;VALUE=URI;X-ADDRESS=Es Claustre Pati del Claustre del Carme 50 Maó illes balears 07701;X-APPLE-RADIUS=500;X-TITLE=Pati del Claustre del Carme\, 50:geo:4.266257,39.888632
END:VEVENT
BEGIN:VEVENT
DTSTART;TZID=Europe/Madrid:20260821T210000
DTEND;TZID=Europe/Madrid:20260821T233000
DTSTAMP:20260423T200502
CREATED:20260206T110458Z
LAST-MODIFIED:20260206T110920Z
UID:10007406-1787346000-1787355000@esclaustre.com
SUMMARY:Xoel López
DESCRIPTION:«Xoel López» regresa a Es Claustre con Caldo Espírito\nXoel López es\, sin duda\, una de las voces más representativas y sólidas de la escena independiente iberoamericana. Con más de dos décadas de trayectoria\, su música se ha convertido en un mapa vital de paisajes\, viajes y emociones\, donde cada disco es un ejercicio de libertad creativa y un capítulo de su propia historia. \nDesde sus inicios con Deluxe hasta su aclamado proyecto en solitario\, Xoel ha sabido reinventarse sin perder su esencia\, convirtiéndose en un artista camaleónico que transita con naturalidad entre el pop\, el rock y las raíces latinoamericanas. \nA lo largo de su trayectoria ha trazado un camino sin ataduras\, explorando el pop\, el folk\, la canción de autor o la psicodelia con sensibilidad única y una poética que mira hacia dentro. Con discos como Atlántico\, Paramales o Si mi rayo te alcanzara\, ha dejado una huella imborrable en varias generaciones. Este verano\, Es Claustre será escenario de su talento atemporal y su conexión genuina con el público. \nSu último trabajo\, Caldo Espírito\, un disco íntimo\, crudo y visceral\, que invita a la reflexión y al sentimiento\, con la voz de Xoel como eje emocional de una obra que trasciende etiquetas. \nwww.xoel.com \n 
URL:https://esclaustre.com/en/event/xoel-lopez-2/
LOCATION:illes balears
CATEGORIES:Agenda Menorca,SLIDE HOME
ATTACH;FMTTYPE=image/jpeg:https://esclaustre.com/wp-content/uploads/2026/02/Xoel-Lopez-Foto-Ernesto-Artillo-Sombras-Chinas-2.jpeg
END:VEVENT
BEGIN:VEVENT
DTSTART;TZID=Europe/Madrid:20260826T210000
DTEND;TZID=Europe/Madrid:20260826T233000
DTSTAMP:20260423T200503
CREATED:20260415T104542Z
LAST-MODIFIED:20260415T104818Z
UID:10007507-1787778000-1787787000@esclaustre.com
SUMMARY:Los Estanques i El Canijo de Jerez
DESCRIPTION:«Los Estanques y El Canijo de Jerez» unidos en un universo de colores líquidos y ritmos que laten como un potro desbocao\nNorte (Cantabria) y Sur (Andalucía) se unen en “Lágrimas de plomo fundido“\, una aventura fabulosa de rock\, psicodelia\, flamenco y mucho disfrute en forma de álbum.\nLos seres humanos siempre han querido explorar de norte a sur\, descubrir nuevos territorios\, viajar por el espacio\, arrojar luz sobre los confines del universo\, saber que hay más allá… \nEste año llegan Los Estanques y El Canijo de Jerez. Templanza e inspiración\, rock\, folklore cántabro y raíces garrapateras. En apariencia son personas normales. Con cabeza\, piernas y brazos. Duermen\, comen\, cagan y caminan erguidos como usted. Pero algo tienen… Es difícil determinar exactamente el qué\, pero sobre ellos planea una nube de humo y buenas vibraciones que no te dejará aterrizar. \nLos Estanques & El Canijo de Jerez se unen en un súper grupo con el que traen el álbum Lágrimas de plomo fundido. En este disco se abrazan psicodelia\, flamenco\, rock progresivo y garage\, juntando dos mundos más cercanos de los que podríamos pensar. Los Estanques\, consolidados como renovadores del rock español\, y El Canijo de Jerez\, referente del nuevo flamenco y el rock andaluz\, se funden en una propuesta única e irreverente. \n  \n\n  \n\n  \n  \n 
URL:https://esclaustre.com/en/event/los-estanques-i-el-canijo-de-jerez/
LOCATION:Es Claustre\, Pati del Claustre del Carme\, 50\, Maó\, illes balears\, 07701
CATEGORIES:Agenda Menorca,Altres esdeveniments
ATTACH;FMTTYPE=image/jpeg:https://esclaustre.com/wp-content/uploads/2026/04/Los-Estanques-y-el-Canijo-de-Jerez.jpeg
ORGANIZER;CN="ES CLAUSTRE":MAILTO:info@esclaustre.com
GEO:39.888632;4.266257
X-APPLE-STRUCTURED-LOCATION;VALUE=URI;X-ADDRESS=Es Claustre Pati del Claustre del Carme 50 Maó illes balears 07701;X-APPLE-RADIUS=500;X-TITLE=Pati del Claustre del Carme\, 50:geo:4.266257,39.888632
END:VEVENT
BEGIN:VEVENT
DTSTART;TZID=Europe/Madrid:20260828T210000
DTEND;TZID=Europe/Madrid:20260828T233000
DTSTAMP:20260423T200503
CREATED:20260415T095531Z
LAST-MODIFIED:20260415T100957Z
UID:10007504-1787950800-1787959800@esclaustre.com
SUMMARY:Neomak
DESCRIPTION:Neomak\, a band with witchcraft\, tambourine and dance.\nNeomak\, which means ‘new moon’ in Greek\, are seven young Basque women with attitude\, creating a new fusion of traditional Basque folk with a contemporary pulse. Electronic dance grooves underpin the skittering rhythms of the pandero and the pumping melodies of the trikitixa\, as they sing\, chant\, dance\, and assert their position as torchbearers of a constantly evolving Basque cultural expression. The ensemble first came together in 2013 when Kepa Junkera was looking to put together a female tambourine\, vocals and dance group for a new project\, Sorginak. They spent five years travelling the world with him\, bonding and sowing the seeds for Neomak\, which they finally unveiled in January 2021\, and they have been captivating audiences ever since. Their eponymous debut album was released in 2022. \n  \n  \n\n  \n\n 
URL:https://esclaustre.com/en/event/neomak/
LOCATION:Es Claustre\, Pati del Claustre del Carme\, 50\, Maó\, illes balears\, 07701
CATEGORIES:Agenda Menorca,Altres esdeveniments
ATTACH;FMTTYPE=image/jpeg:https://esclaustre.com/wp-content/uploads/2026/04/Neomak.jpeg
ORGANIZER;CN="ES CLAUSTRE":MAILTO:info@esclaustre.com
GEO:39.888632;4.266257
X-APPLE-STRUCTURED-LOCATION;VALUE=URI;X-ADDRESS=Es Claustre Pati del Claustre del Carme 50 Maó illes balears 07701;X-APPLE-RADIUS=500;X-TITLE=Pati del Claustre del Carme\, 50:geo:4.266257,39.888632
END:VEVENT
END:VCALENDAR