BEGIN:VCALENDAR
VERSION:2.0
PRODID:-//Es Claustre - Terrassa Concerts Menorca - ECPv6.15.15//NONSGML v1.0//EN
CALSCALE:GREGORIAN
METHOD:PUBLISH
X-WR-CALNAME:Es Claustre - Terrassa Concerts Menorca
X-ORIGINAL-URL:https://esclaustre.com/es/
X-WR-CALDESC:Eventos para Es Claustre - Terrassa Concerts Menorca
REFRESH-INTERVAL;VALUE=DURATION:PT1H
X-Robots-Tag:noindex
X-PUBLISHED-TTL:PT1H
BEGIN:VTIMEZONE
TZID:UTC
BEGIN:STANDARD
TZOFFSETFROM:+0000
TZOFFSETTO:+0000
TZNAME:UTC
DTSTART:20230101T000000
END:STANDARD
END:VTIMEZONE
BEGIN:VEVENT
DTSTART;TZID=UTC:20240406T180000
DTEND;TZID=UTC:20240406T233000
DTSTAMP:20260425T041457
CREATED:20200107T092632Z
LAST-MODIFIED:20240229T174158Z
UID:10004240-1712426400-1712446200@esclaustre.com
SUMMARY:Abrimos en abril
DESCRIPTION:[ fb_built=»1″ specialty=»on» _builder_version=»3.0.47″][et_pb_column type=»3_4″ specialty_columns=»3″ _builder_version=»3.0.47″][et_pb_row_inner background_position_1=»top_left» background_repeat_1=»no-repeat» admin_label=»Row» module_class=»tribe-events-content__img» _builder_version=»3.0.64″][et_pb_column_inner type=»4_4″ saved_specialty_column_type=»3_4″ _builder_version=»3.0.47″ parallax=»off» parallax_method=»on» background_position=»top_left» background_repeat=»no-repeat»][et_pb_image src=»https://esclaustre.com/wp-content/uploads/2020/08/Claustre-133.jpg» _builder_version=»3.0.64″][/et_pb_image][/et_pb_column_inner][/et_pb_row_inner][et_pb_row_inner background_position_1=»top_left» background_repeat_1=»no-repeat» admin_label=»Row» module_class=»tribe-events-content__content» _builder_version=»3.0.64″ custom_padding=»10px|0px|34.54044px|0px»][et_pb_column_inner type=»4_4″ saved_specialty_column_type=»3_4″ _builder_version=»3.0.47″ parallax=»off» parallax_method=»on» background_position=»top_left» background_repeat=»no-repeat»][et_pb_code _builder_version=»3.0.64″]<!– [et_pb_line_break_holder] –><!– [et_pb_line_break_holder] –> [/et_pb_code][et_pb_text _builder_version=»3.0.64″] \n\n\n\n«Es Claustre» cerramos unos meses\nTenemos muchas ganas de volver muy pronto\, y justamente por este motivo Es Claustre permanecerá cerrado hasta el próximo mes de abril. Volveremos con nuevos proyectos\, nuevas ideas que necesitan madurar un poco y arrancar una nueva temporada de actividades que tenemos ganas de ofreceros para relanzar en otros formatos.\n\nPor todo esto y como en cada temporada Es Claustre restará cerrado hasta el  5/6/2024\n\n\nDetenemos la maquinária cultural para poder explorar bien y trebajar programación\, agenda\, convocatorias y dar apoyo a nuestro entorno de amistades.\n\n\nAño 2024 con una programación renovada\n  \nCerramos unos meses pero muy pronto daremos a conocer nuevos avances y nuevas incorporaciones que vienen para quedarse en el espacio abierto de Es Claustre. Una nueva programación cultural diferenciada y en contínua busqueda de nuevos lenguajes que pronto ofreceremos un avanze.\n\n\nVolveremos en poder!\n\nHasta entonces.\n\n  \n[/et_pb_text][/et_pb_column_inner][/et_pb_row_inner][/et_pb_column][et_pb_column type=»1_4″ _builder_version=»3.0.47″][et_pb_customEventMetaFields location=»on» schedule=»on» price=»on» admin_label=»EsClaustre Camps Event» module_class=»appendTo_tribe-events-infoBlocks_landscape» _builder_version=»3.0.51″] \n<div class=»wrapper_tribe-events-infoBlock»><dl class=»tribe-events-infoBlock appendTo_tribe-events-infoBlocks_landscape et_pb_customEventMetaFields_1″>\n<dt class=»tribe-events-infoBlock__label»>Espacio</dt>\n<dd class=»tribe-events-infoBlock__field»></dd>\n</dl><dl class=»tribe-events-infoBlock appendTo_tribe-events-infoBlocks_landscape et_pb_customEventMetaFields_1″>\n<dt class=»tribe-events-infoBlock__label»>Horarios</dt>\n<dd class=»tribe-events-infoBlock__field»>H</dd>\n</dl><dl class=»tribe-events-infoBlock appendTo_tribe-events-infoBlocks_landscape et_pb_customEventMetaFields_1″>\n<dt class=»tribe-events-infoBlock__label»>Precio</dt>\n<dd class=»tribe-events-infoBlock__field»></dd>\n</dl><dl class=»tribe-events-infoBlock appendTo_tribe-events-infoBlocks_landscape et_pb_customEventMetaFields_1″>\n<a class=»tribe-events-infoBlock_addCAlendar» href=»https://esclaustre.com/es/agenda/?ical=1″>Añadir al calendario</a>\n</dl></div> \n[/et_pb_customEventMetaFields][et_pb_button url_new_window=»on» button_text=»Gratuït» button_alignment=»left» module_class=»btn-ticket appendTo_tribe-events-infoBlocks_landscape» _builder_version=»3.0.64″ background_color=»#f92b44″][/et_pb_button][et_pb_customEventCategories _builder_version=»3.0.51″] \n<ul class=»tribe-events-categories»></ul> \n[/et_pb_customEventCategories][et_pb_customEventTags _builder_version=»3.0.51″][/et_pb_customEventTags][/et_pb_column][/]
URL:https://esclaustre.com/es/event/abrimos-en-abril/
LOCATION:Es Claustre\, Pati del Claustre del Carme\, 50\, Maó\, illes balears\, 07701
CATEGORIES:Cultura
ATTACH;FMTTYPE=image/jpeg:https://esclaustre.com/wp-content/uploads/2020/08/Claustre-133.jpg
GEO:39.888632;4.266257
X-APPLE-STRUCTURED-LOCATION;VALUE=URI;X-ADDRESS=Es Claustre Pati del Claustre del Carme 50 Maó illes balears 07701;X-APPLE-RADIUS=500;X-TITLE=Pati del Claustre del Carme\, 50:geo:4.266257,39.888632
END:VEVENT
END:VCALENDAR