BEGIN:VCALENDAR
VERSION:2.0
PRODID:-//Es Claustre - Terrassa Concerts Menorca - ECPv6.15.15//NONSGML v1.0//EN
CALSCALE:GREGORIAN
METHOD:PUBLISH
X-WR-CALNAME:Es Claustre - Terrassa Concerts Menorca
X-ORIGINAL-URL:https://esclaustre.com/es/
X-WR-CALDESC:Eventos para Es Claustre - Terrassa Concerts Menorca
REFRESH-INTERVAL;VALUE=DURATION:PT1H
X-Robots-Tag:noindex
X-PUBLISHED-TTL:PT1H
BEGIN:VTIMEZONE
TZID:Europe/Madrid
BEGIN:DAYLIGHT
TZOFFSETFROM:+0100
TZOFFSETTO:+0200
TZNAME:CEST
DTSTART:20230326T010000
END:DAYLIGHT
BEGIN:STANDARD
TZOFFSETFROM:+0200
TZOFFSETTO:+0100
TZNAME:CET
DTSTART:20231029T010000
END:STANDARD
BEGIN:DAYLIGHT
TZOFFSETFROM:+0100
TZOFFSETTO:+0200
TZNAME:CEST
DTSTART:20240331T010000
END:DAYLIGHT
BEGIN:STANDARD
TZOFFSETFROM:+0200
TZOFFSETTO:+0100
TZNAME:CET
DTSTART:20241027T010000
END:STANDARD
BEGIN:DAYLIGHT
TZOFFSETFROM:+0100
TZOFFSETTO:+0200
TZNAME:CEST
DTSTART:20250330T010000
END:DAYLIGHT
BEGIN:STANDARD
TZOFFSETFROM:+0200
TZOFFSETTO:+0100
TZNAME:CET
DTSTART:20251026T010000
END:STANDARD
END:VTIMEZONE
BEGIN:VTIMEZONE
TZID:UTC
BEGIN:STANDARD
TZOFFSETFROM:+0000
TZOFFSETTO:+0000
TZNAME:UTC
DTSTART:20230101T000000
END:STANDARD
END:VTIMEZONE
BEGIN:VEVENT
DTSTART;TZID=Europe/Madrid:20240705T210000
DTEND;TZID=Europe/Madrid:20240705T210000
DTSTAMP:20260425T003741
CREATED:20240531T112717Z
LAST-MODIFIED:20240606T073902Z
UID:10006046-1720213200-1720213200@esclaustre.com
SUMMARY:WAGNER PA & OS 3 PARCEIROS
DESCRIPTION:
URL:https://esclaustre.com/es/event/wagner-pa-os-3-parceiros/
LOCATION:Es Claustre\, Pati del Claustre del Carme\, 50\, Maó\, illes balears\, 07701
CATEGORIES:Agenda Menorca,Cultura,Es Claustre 2024,Música
ATTACH;FMTTYPE=image/jpeg:https://esclaustre.com/wp-content/uploads/2024/06/WAGNERPa.jpg
ORGANIZER;CN="ES CLAUSTRE":MAILTO:info@esclaustre.com
GEO:39.888632;4.266257
X-APPLE-STRUCTURED-LOCATION;VALUE=URI;X-ADDRESS=Es Claustre Pati del Claustre del Carme 50 Maó illes balears 07701;X-APPLE-RADIUS=500;X-TITLE=Pati del Claustre del Carme\, 50:geo:4.266257,39.888632
END:VEVENT
BEGIN:VEVENT
DTSTART;TZID=Europe/Madrid:20240707T210000
DTEND;TZID=Europe/Madrid:20240707T230000
DTSTAMP:20260425T003741
CREATED:20240531T113846Z
LAST-MODIFIED:20240618T215209Z
UID:10006021-1720386000-1720393200@esclaustre.com
SUMMARY:DANI COMAS «KIMCHI»
DESCRIPTION:«Dani Comas» tradició i música instrumental\nLa formació que encapçala la sessió #6 d’Es Claustre està protagonitzada per Dani Comas — guitarra elèctrica i composicions\,  –  Juan Pablo Balcazar — baix elèctric\, —  Abel Boquera – teclat i Pep Mula — bateria. \n«Kimchi» és el nom que rep el projecte liderat per Dani Comas. La paraula Kimchi (en el seu orígen) es refereix a un plat tradicional Corea que es presenta com acompanyament al plat principal i que està fet a base de verdures fermentades. Dani Comas “KIMCHI” és Música pròpia inspirada en el groove\, el funk\, el blues y el jazz. Beu de la tradició per buscar nous camins en la música instrumental.
URL:https://esclaustre.com/es/event/dani-comas-kimchi/
LOCATION:Es Claustre\, Pati del Claustre del Carme\, 50\, Maó\, illes balears\, 07701
CATEGORIES:Agenda Menorca,Es Claustre 2024,Jazz,Música
ATTACH;FMTTYPE=image/jpeg:https://esclaustre.com/wp-content/uploads/2024/05/Dani-Comas-KIMCHI-.jpg
ORGANIZER;CN="ES CLAUSTRE":MAILTO:info@esclaustre.com
GEO:39.888632;4.266257
X-APPLE-STRUCTURED-LOCATION;VALUE=URI;X-ADDRESS=Es Claustre Pati del Claustre del Carme 50 Maó illes balears 07701;X-APPLE-RADIUS=500;X-TITLE=Pati del Claustre del Carme\, 50:geo:4.266257,39.888632
END:VEVENT
BEGIN:VEVENT
DTSTART;TZID=Europe/Madrid:20240712T210000
DTEND;TZID=Europe/Madrid:20240712T210000
DTSTAMP:20260425T003741
CREATED:20240517T114511Z
LAST-MODIFIED:20240605T152804Z
UID:10006030-1720818000-1720818000@esclaustre.com
SUMMARY:Amparanoia
DESCRIPTION:«Amparanoia» ens presenta Fan Fan Fanfarria \n«Amparanoia» es la pionera del mestizaje de finales de los 90 en nuestro país y una referente a nivel internacional con una larga carrera plagada de álbumes (ocho)\, giras por todo el mundo y reconocimiento después de casi 30 años de carrera musical. «Fan Fan Fanfarria» es el nombre del nuevo álbum de Amparanoia \, en el que ha contacto con la colaboración de Artistas del Gremio. La música que han grabado juntos es una invitación para celebrar la vida. Un regalo de 10 canciones del repertorio clásico de la banda y cuatro temas inéditos en clave festiva\, electrónica y balcánica. El álbum ha sido producido por Amparo Sánchez en el estudio de Mamita junto a Mayito y Willy Fuego\, grabado\, mezclado y masterizado con Carlos Díaz en los estudios Santa Maria De la Vega en Granada. \nEn la selección de los temas de la artista andaluza hay diferentes estilos siempre con el punto festivo en común y temáticas comprome@das\, valientes y sobre todo muy actuales\, donde canciones como “Que te den”\, ”Somos viento” o “En la ciudad” se entremezclan con “La balanza” y “Algo está pasando” en la misma línea\, con bases electrónicas\, arreglos de vientos y la voz inconfundible de la líder\, pero con una nueva propuesta estética-musical arrolladora en un directo muy potente. \nUn directo con bases electrónicas\, DJs \, cantantes \, guitarras \, vientos\, baile y mucha alegría!!
URL:https://esclaustre.com/es/event/amparanoia/
LOCATION:Es Claustre\, Pati del Claustre del Carme\, 50\, Maó\, illes balears\, 07701
CATEGORIES:Agenda Menorca,Cultura,Es Claustre 2024,Música
ATTACH;FMTTYPE=image/jpeg:https://esclaustre.com/wp-content/uploads/2024/05/Amparanoia.jpg
ORGANIZER;CN="ES CLAUSTRE":MAILTO:info@esclaustre.com
GEO:39.888632;4.266257
X-APPLE-STRUCTURED-LOCATION;VALUE=URI;X-ADDRESS=Es Claustre Pati del Claustre del Carme 50 Maó illes balears 07701;X-APPLE-RADIUS=500;X-TITLE=Pati del Claustre del Carme\, 50:geo:4.266257,39.888632
END:VEVENT
BEGIN:VEVENT
DTSTART;TZID=Europe/Madrid:20240714T210000
DTEND;TZID=Europe/Madrid:20240714T210000
DTSTAMP:20260425T003741
CREATED:20240531T115050Z
LAST-MODIFIED:20240606T071221Z
UID:10006045-1720990800-1720990800@esclaustre.com
SUMMARY:ALBERT VILA TRIO
DESCRIPTION:
URL:https://esclaustre.com/es/event/albert-vila-trio/
LOCATION:Es Claustre\, Pati del Claustre del Carme\, 50\, Maó\, illes balears\, 07701
CATEGORIES:Agenda Menorca,Cultura,Es Claustre 2024,Jazz
ATTACH;FMTTYPE=image/jpeg:https://esclaustre.com/wp-content/uploads/2024/05/ALBERT-VILA.jpg
ORGANIZER;CN="ES CLAUSTRE":MAILTO:info@esclaustre.com
GEO:39.888632;4.266257
X-APPLE-STRUCTURED-LOCATION;VALUE=URI;X-ADDRESS=Es Claustre Pati del Claustre del Carme 50 Maó illes balears 07701;X-APPLE-RADIUS=500;X-TITLE=Pati del Claustre del Carme\, 50:geo:4.266257,39.888632
END:VEVENT
BEGIN:VEVENT
DTSTART;TZID=Europe/Madrid:20240717T210000
DTEND;TZID=Europe/Madrid:20240717T210000
DTSTAMP:20260425T003741
CREATED:20240531T115615Z
LAST-MODIFIED:20240606T065549Z
UID:10006043-1721250000-1721250000@esclaustre.com
SUMMARY:VERLAAT
DESCRIPTION:
URL:https://esclaustre.com/es/event/verlaat-2/
LOCATION:Es Claustre\, Pati del Claustre del Carme\, 50\, Maó\, illes balears\, 07701
CATEGORIES:Agenda Menorca,Cultura,Es Claustre 2024
ATTACH;FMTTYPE=image/jpeg:https://esclaustre.com/wp-content/uploads/2021/06/Verlaat_esclaustre.jpg
ORGANIZER;CN="ES CLAUSTRE":MAILTO:info@esclaustre.com
GEO:39.888632;4.266257
X-APPLE-STRUCTURED-LOCATION;VALUE=URI;X-ADDRESS=Es Claustre Pati del Claustre del Carme 50 Maó illes balears 07701;X-APPLE-RADIUS=500;X-TITLE=Pati del Claustre del Carme\, 50:geo:4.266257,39.888632
END:VEVENT
BEGIN:VEVENT
DTSTART;TZID=Europe/Madrid:20240718T220000
DTEND;TZID=Europe/Madrid:20240718T220000
DTSTAMP:20260425T003741
CREATED:20240531T124740Z
LAST-MODIFIED:20240606T063214Z
UID:10006041-1721340000-1721340000@esclaustre.com
SUMMARY:GILIPOJAZZ
DESCRIPTION:
URL:https://esclaustre.com/es/event/gilipojazz/
LOCATION:Es Claustre\, Pati del Claustre del Carme\, 50\, Maó\, illes balears\, 07701
CATEGORIES:Agenda Menorca,Es Claustre 2024,Jazz
ATTACH;FMTTYPE=image/jpeg:https://esclaustre.com/wp-content/uploads/2024/05/GILIPOJAZZ.jpg
ORGANIZER;CN="ES CLAUSTRE":MAILTO:info@esclaustre.com
GEO:39.888632;4.266257
X-APPLE-STRUCTURED-LOCATION;VALUE=URI;X-ADDRESS=Es Claustre Pati del Claustre del Carme 50 Maó illes balears 07701;X-APPLE-RADIUS=500;X-TITLE=Pati del Claustre del Carme\, 50:geo:4.266257,39.888632
END:VEVENT
BEGIN:VEVENT
DTSTART;TZID=Europe/Madrid:20240719T210000
DTEND;TZID=Europe/Madrid:20240719T210000
DTSTAMP:20260425T003741
CREATED:20240517T115216Z
LAST-MODIFIED:20240613T215431Z
UID:10006072-1721422800-1721422800@esclaustre.com
SUMMARY:Dan Peralbo i El Comboi
DESCRIPTION:«Dan Peralbo i El Comboi» Bang\, Bang\, Bang! \n«Dan Peralbo i El Comboi» es una formación de cuatro músicos de Osona i Barcelona; una banda de rock and roll cuyas canciones marcan un nuevo camino dentro del género y cuyo directo es tan potente que queda estampado en el corazón de quien lo presencia. \nSe dice que son la nueva promesa del rock and roll en catalán. Nosotros no lo sabemos\, tampoco nos gusta ese titular\, pero de lo que sí estamos seguros es que nos apasionan. \n 
URL:https://esclaustre.com/es/event/dan-peralbo-i-el-comboi/
LOCATION:Es Claustre\, Pati del Claustre del Carme\, 50\, Maó\, illes balears\, 07701
CATEGORIES:Agenda Menorca,Cultura,Es Claustre 2024,Música
ATTACH;FMTTYPE=image/jpeg:https://esclaustre.com/wp-content/uploads/2024/05/Dan_Peralbo_i_el_Comboi.jpg
ORGANIZER;CN="ES CLAUSTRE":MAILTO:info@esclaustre.com
GEO:39.888632;4.266257
X-APPLE-STRUCTURED-LOCATION;VALUE=URI;X-ADDRESS=Es Claustre Pati del Claustre del Carme 50 Maó illes balears 07701;X-APPLE-RADIUS=500;X-TITLE=Pati del Claustre del Carme\, 50:geo:4.266257,39.888632
END:VEVENT
BEGIN:VEVENT
DTSTART;TZID=Europe/Madrid:20240721T210000
DTEND;TZID=Europe/Madrid:20240721T210000
DTSTAMP:20260425T003741
CREATED:20240531T131056Z
LAST-MODIFIED:20240605T124800Z
UID:10006028-1721595600-1721595600@esclaustre.com
SUMMARY:CAMIL ALCARAZO QUARTET
DESCRIPTION:
URL:https://esclaustre.com/es/event/camil-alcarazo-quartet/
LOCATION:Es Claustre\, Pati del Claustre del Carme\, 50\, Maó\, illes balears\, 07701
CATEGORIES:Agenda Menorca,Cultura,Es Claustre 2024,Jazz
ATTACH;FMTTYPE=image/jpeg:https://esclaustre.com/wp-content/uploads/2024/05/CAMIL.jpg
ORGANIZER;CN="ES CLAUSTRE":MAILTO:info@esclaustre.com
GEO:39.888632;4.266257
X-APPLE-STRUCTURED-LOCATION;VALUE=URI;X-ADDRESS=Es Claustre Pati del Claustre del Carme 50 Maó illes balears 07701;X-APPLE-RADIUS=500;X-TITLE=Pati del Claustre del Carme\, 50:geo:4.266257,39.888632
END:VEVENT
BEGIN:VEVENT
DTSTART;TZID=Europe/Madrid:20240725T220000
DTEND;TZID=Europe/Madrid:20240725T220000
DTSTAMP:20260425T003741
CREATED:20240531T132711Z
LAST-MODIFIED:20240605T104712Z
UID:10006025-1721944800-1721944800@esclaustre.com
SUMMARY:NAMINA
DESCRIPTION:
URL:https://esclaustre.com/es/event/namina/
LOCATION:Es Claustre\, Pati del Claustre del Carme\, 50\, Maó\, illes balears\, 07701
CATEGORIES:Agenda Menorca,Es Claustre 2024,Música
ATTACH;FMTTYPE=image/jpeg:https://esclaustre.com/wp-content/uploads/2024/05/NAMINA.jpg
ORGANIZER;CN="ES CLAUSTRE":MAILTO:info@esclaustre.com
GEO:39.888632;4.266257
X-APPLE-STRUCTURED-LOCATION;VALUE=URI;X-ADDRESS=Es Claustre Pati del Claustre del Carme 50 Maó illes balears 07701;X-APPLE-RADIUS=500;X-TITLE=Pati del Claustre del Carme\, 50:geo:4.266257,39.888632
END:VEVENT
BEGIN:VEVENT
DTSTART;TZID=Europe/Madrid:20240726T210000
DTEND;TZID=Europe/Madrid:20240726T210000
DTSTAMP:20260425T003741
CREATED:20240605T155534Z
LAST-MODIFIED:20240605T155923Z
UID:10006033-1722027600-1722027600@esclaustre.com
SUMMARY:Gorka Urbizu
DESCRIPTION:«Gorka Urbizu» nos presenta Hasiera Bat\nHasiera Bat -un comienzo- es el primer disco que Gorka Urbizu firma con su propio nombre. Tras una singladura de 25 años al frente de Berri Txarrak\, el músico navarro apuesta por la belleza y la crudeza\, y nos propone un viaje al propio corazón de la canción. Huyendo de cualquier tentación de ir sumando capas y capas de sonido\, el autor elige justo la vía contraria: parece haber una premisa en todo el álbum de desnudar y vaciar las canciones hasta dejarlas en su mínima expresión. Bellas. Crudas. Puras. Es eso lo que las hace resistentes como rocas\, frágiles como una hoja al viento. \nHuyendo de cualquier tentación de ir sumando capas y capas de sonido\, el autor elige la vía contraria: parece haber una premisa en todo el álbum de desnudar y vaciar las canciones hasta dejarlas en su mínima expresión. \nUno de los conciertos más selectos del verano\, que no se os pase la fecha.
URL:https://esclaustre.com/es/event/gorka-urbizu/
LOCATION:Es Claustre\, Pati del Claustre del Carme\, 50\, Maó\, illes balears\, 07701
CATEGORIES:Agenda Menorca,Cultura,Es Claustre 2024,Música
ATTACH;FMTTYPE=image/jpeg:https://esclaustre.com/wp-content/uploads/2024/06/Gorka_Urbizu_.jpg
ORGANIZER;CN="ES CLAUSTRE":MAILTO:info@esclaustre.com
GEO:39.888632;4.266257
X-APPLE-STRUCTURED-LOCATION;VALUE=URI;X-ADDRESS=Es Claustre Pati del Claustre del Carme 50 Maó illes balears 07701;X-APPLE-RADIUS=500;X-TITLE=Pati del Claustre del Carme\, 50:geo:4.266257,39.888632
END:VEVENT
BEGIN:VEVENT
DTSTART;TZID=UTC:20240727T210000
DTEND;TZID=UTC:20240727T233000
DTSTAMP:20260425T003741
CREATED:20240211T161409Z
LAST-MODIFIED:20240605T135105Z
UID:10005904-1722114000-1722123000@esclaustre.com
SUMMARY:La Ludwig Band
DESCRIPTION:«La Ludwig Band» gràcies per venir\n«La Ludwig Band» Prolíficos\, virtuosos y desenfadados son los tres adjetivos que mejor definen a la banda emergente que está revolucionando el panorama catalán gracias a sus letras agudas y su espíritu satírico y jolgorista. Después de 4 discos en tan solo 4 años\, con el que han ganado premios como el Enderrock al mejor disco del 2021 por La mateixa sort o el Cerverí a la mejor letra en catalán del 2021 por la ya mítica S’ha mort l’home més vell d’Espolla\, llegan con «Gràcies per venir»\, su disco más ambicioso\, coreable\, potente y representativo. \nComo dice Jaume Sisa: “estos chicos me gustan porque salen al escenario sin planchar\, como lo hacíamos nosotros” y es que en época de autotunes\, beats y samplers\, La Ludwig Band aparece como un grupo como los de antes\, en dónde la música que se escucha es la que se ve\, un poco como lo haría Bruce Springsteen o el admirado Pau Riba. \nEn cuarenta minutos\, el sexteto de Espolla (Alt Empordà) formado por Gabriel Bosch\, Quim Carandell\, Roger Cassola\, Pau Esteve\, Andreu Galofré y Lluc Valverde\, consigue pasar solidamente por el pop\, el folk y el rock y llevarlos hasta terrenos inexplorados con armonizaciones delicadas y matizes cultivados a fuego lento. Y justamente por la solidez de la propuesta han llegado a oídos de Manel\, que con su sello Ceràmiques Guzmán coeditan con The Indian Runners el primer álbum de otro grupo\, apadrinando a este proyecto tan prometedor. Y es que si por alguna cosa se puede \nGabriel Bosch\, guitarra elèctrica i cors\nQuim Carandell\, veu i guitarra\nRoger Cassola\, bateria i cors\nPau Esteve\, piano\, teclat i cors\nAndreu Galofré\, baix i cors\nLluc Valverde\, clarinet\, saxo i cors \n 
URL:https://esclaustre.com/es/event/la-ludwig-band/
LOCATION:Es Claustre\, Pati del Claustre del Carme\, 50\, Maó\, illes balears\, 07701
CATEGORIES:Agenda Menorca,Es Claustre 2024,Música
ATTACH;FMTTYPE=image/jpeg:https://esclaustre.com/wp-content/uploads/2024/02/LaLudwigBand-.jpg
GEO:39.888632;4.266257
X-APPLE-STRUCTURED-LOCATION;VALUE=URI;X-ADDRESS=Es Claustre Pati del Claustre del Carme 50 Maó illes balears 07701;X-APPLE-RADIUS=500;X-TITLE=Pati del Claustre del Carme\, 50:geo:4.266257,39.888632
END:VEVENT
BEGIN:VEVENT
DTSTART;TZID=Europe/Madrid:20240728T210000
DTEND;TZID=Europe/Madrid:20240728T210000
DTSTAMP:20260425T003741
CREATED:20240531T133546Z
LAST-MODIFIED:20240605T103914Z
UID:10006022-1722200400-1722200400@esclaustre.com
SUMMARY:JAUME LLOMBART ORGAN TRIO
DESCRIPTION:
URL:https://esclaustre.com/es/event/jaume-llombart-organ-trio/
LOCATION:Es Claustre\, Pati del Claustre del Carme\, 50\, Maó\, illes balears\, 07701
CATEGORIES:Agenda Menorca,Es Claustre 2024,Jazz,Música
ATTACH;FMTTYPE=image/jpeg:https://esclaustre.com/wp-content/uploads/2024/05/JAUME-LLOMBART-ORGAN-TRIO.jpg
ORGANIZER;CN="ES CLAUSTRE":MAILTO:info@esclaustre.com
GEO:39.888632;4.266257
X-APPLE-STRUCTURED-LOCATION;VALUE=URI;X-ADDRESS=Es Claustre Pati del Claustre del Carme 50 Maó illes balears 07701;X-APPLE-RADIUS=500;X-TITLE=Pati del Claustre del Carme\, 50:geo:4.266257,39.888632
END:VEVENT
BEGIN:VEVENT
DTSTART;TZID=Europe/Madrid:20240731T210000
DTEND;TZID=Europe/Madrid:20240731T210000
DTSTAMP:20260425T003741
CREATED:20240531T135547Z
LAST-MODIFIED:20240605T102756Z
UID:10006018-1722459600-1722459600@esclaustre.com
SUMMARY:PLATANO MANUSH
DESCRIPTION:
URL:https://esclaustre.com/es/event/platano-manush-3/
LOCATION:Es Claustre\, Pati del Claustre del Carme\, 50\, Maó\, illes balears\, 07701
CATEGORIES:Agenda Menorca,Es Claustre 2024,Música
ATTACH;FMTTYPE=image/jpeg:https://esclaustre.com/wp-content/uploads/2020/07/Platano-Manush.jpg
ORGANIZER;CN="ES CLAUSTRE":MAILTO:info@esclaustre.com
GEO:39.888632;4.266257
X-APPLE-STRUCTURED-LOCATION;VALUE=URI;X-ADDRESS=Es Claustre Pati del Claustre del Carme 50 Maó illes balears 07701;X-APPLE-RADIUS=500;X-TITLE=Pati del Claustre del Carme\, 50:geo:4.266257,39.888632
END:VEVENT
END:VCALENDAR