BEGIN:VCALENDAR
VERSION:2.0
PRODID:-//Es Claustre - Terrassa Concerts Menorca - ECPv6.15.15//NONSGML v1.0//EN
CALSCALE:GREGORIAN
METHOD:PUBLISH
X-ORIGINAL-URL:https://esclaustre.com/es/
X-WR-CALDESC:Eventos para Es Claustre - Terrassa Concerts Menorca
REFRESH-INTERVAL;VALUE=DURATION:PT1H
X-Robots-Tag:noindex
X-PUBLISHED-TTL:PT1H
BEGIN:VTIMEZONE
TZID:Europe/Madrid
BEGIN:DAYLIGHT
TZOFFSETFROM:+0100
TZOFFSETTO:+0200
TZNAME:CEST
DTSTART:20240331T010000
END:DAYLIGHT
BEGIN:STANDARD
TZOFFSETFROM:+0200
TZOFFSETTO:+0100
TZNAME:CET
DTSTART:20241027T010000
END:STANDARD
BEGIN:DAYLIGHT
TZOFFSETFROM:+0100
TZOFFSETTO:+0200
TZNAME:CEST
DTSTART:20250330T010000
END:DAYLIGHT
BEGIN:STANDARD
TZOFFSETFROM:+0200
TZOFFSETTO:+0100
TZNAME:CET
DTSTART:20251026T010000
END:STANDARD
BEGIN:DAYLIGHT
TZOFFSETFROM:+0100
TZOFFSETTO:+0200
TZNAME:CEST
DTSTART:20260329T010000
END:DAYLIGHT
BEGIN:STANDARD
TZOFFSETFROM:+0200
TZOFFSETTO:+0100
TZNAME:CET
DTSTART:20261025T010000
END:STANDARD
END:VTIMEZONE
BEGIN:VTIMEZONE
TZID:UTC
BEGIN:STANDARD
TZOFFSETFROM:+0000
TZOFFSETTO:+0000
TZNAME:UTC
DTSTART:20240101T000000
END:STANDARD
END:VTIMEZONE
BEGIN:VEVENT
DTSTART;TZID=Europe/Madrid:20250902T210000
DTEND;TZID=Europe/Madrid:20250902T210000
DTSTAMP:20260424T034429
CREATED:20250705T093244Z
LAST-MODIFIED:20250705T093456Z
UID:10007035-1756846800-1756846800@esclaustre.com
SUMMARY:Júlia Beatloop
DESCRIPTION:«Júlia Beatloop» en el escenario de Es Claustre\nJúlia Beatloop es una artista solista y autodidacta que presenta sus composiciones musicales con una fusión de estilos con toques de rap\, reggae\, electrónica y poesía en un formato original y enérgico. \nCon su loopstation y una variedad de instrumentos (piano\, guitarra\, melódica\, armónica…) crea sus temas en vivo\, capa por capa\, combinando ritmo\, palabra y emoción. \nUn concierto que ofrece mucho más que música\, un viaje musical donde conectar con las letras\, el sonido\,  lo profundo de la vida y un espacio para desconectar de lo cotidiano y conectar con una misma\, recordar que aunque haya momentos difíciles siempre hay motivos para cantar que la vida es bonita. \nVen a descubrir la creatividad de la isla de la mano de Júlia Beatloop!
URL:https://esclaustre.com/es/event/julia-beatloop-3/
LOCATION:Es Claustre\, Pati del Claustre del Carme\, 50\, Maó\, illes balears\, 07701
CATEGORIES:Agenda Menorca,Altres esdeveniments
ATTACH;FMTTYPE=image/jpeg:https://esclaustre.com/wp-content/uploads/2025/07/Julia_Beeatloop.jpeg
ORGANIZER;CN="ES CLAUSTRE":MAILTO:info@esclaustre.com
GEO:39.888632;4.266257
X-APPLE-STRUCTURED-LOCATION;VALUE=URI;X-ADDRESS=Es Claustre Pati del Claustre del Carme 50 Maó illes balears 07701;X-APPLE-RADIUS=500;X-TITLE=Pati del Claustre del Carme\, 50:geo:4.266257,39.888632
END:VEVENT
BEGIN:VEVENT
DTSTART;TZID=Europe/Madrid:20250903T210000
DTEND;TZID=Europe/Madrid:20250903T210000
DTSTAMP:20260424T034429
CREATED:20250507T074822Z
LAST-MODIFIED:20250507T075942Z
UID:10006950-1756933200-1756933200@esclaustre.com
SUMMARY:Alosa
DESCRIPTION:«Alosa» una fusión cautivadora de tradición y modernidad\nAlosa se formó en 2022 en las aulas del Taller de Músics Escuela Superior de Estudios Musicales (ESEM). Giulietta Vidal (voz) e Irene Romo (violonchelo) empezaron su colaboración con una amistad que evolucionó hacia un proyecto artístico innovador. Con una visión compartida de la música\, han conseguido cautivar a un amplio público a través de sus interpretaciones únicas y su capacidad de fusionar tradición y modernidad. Con un directo vibrante\, Alosa consigue llenar cualquier sala con la austeridad de su propuesta escénica\, valiéndose únicamente de sus voces armónicas\, un cello y pequeños instrumentos de percusión tradicionales\, alzándose a través de la singular conexión entre las dos intérpretes\, que hacen del concierto una experiencia íntima y festiva a la vez. \nPresentan un repertorio muy variado\, que va desde temas propios hasta interpretaciones personales de temas folklóricos de la música catalana\, pasando por estándards del jazz. Giulietta e Irene són una muestra del background musical del dueto: jazz\, bossa\, boleros\, música clássica e incluso\, pop. \nAlosa nace de una manera natural y sana\, sin pretensiones ni expectativas. Dos chicas mostrando la música tal y como la entienden.. \n  \n\n 
URL:https://esclaustre.com/es/event/alosa/
LOCATION:Es Claustre\, Pati del Claustre del Carme\, 50\, Maó\, illes balears\, 07701
CATEGORIES:Agenda Menorca,SLIDE HOME
ATTACH;FMTTYPE=image/jpeg:https://esclaustre.com/wp-content/uploads/2025/05/Alosa-.jpg
ORGANIZER;CN="ES CLAUSTRE":MAILTO:info@esclaustre.com
GEO:39.888632;4.266257
X-APPLE-STRUCTURED-LOCATION;VALUE=URI;X-ADDRESS=Es Claustre Pati del Claustre del Carme 50 Maó illes balears 07701;X-APPLE-RADIUS=500;X-TITLE=Pati del Claustre del Carme\, 50:geo:4.266257,39.888632
END:VEVENT
BEGIN:VEVENT
DTSTART;TZID=Europe/Madrid:20250904T210000
DTEND;TZID=Europe/Madrid:20250904T233000
DTSTAMP:20260424T034429
CREATED:20250731T091959Z
LAST-MODIFIED:20250903T222943Z
UID:10007041-1757019600-1757028600@esclaustre.com
SUMMARY:Ranxera Takeshi
DESCRIPTION:Ranxera Takeshi apropa Maó i Manacor\nRanxera Takeshi és un experiment sonor i una trobada d’amics: sis músics de renom de l’escena illenca que uneixen les seves veus i universos creatius per generar un discurs musical fresc\, ballable i amb toccs d’electrònica. Allunyats de l’efímer\, aposten per un projecte continuat que començarà amb una residència creativa a la Fundació La Plana (Catalunya) i es desplegarà en múltiples escenaris pròximament. \n  \nEl projecte neix de la mà de Joan Lliro coincidint amb els 40 anys de Can Lliro. Inicialment ideat com a formació per a la Festa del 40è Aniversari\, Ranxera Takeshi reuneix diversos components de l’escena mallorquina en un projecte insòlit amb elscomponents: Joana Gomila\, Jorra Santiago\, Laia Vallès\, Roger Pistola\, Toni Llull i Simó Femenias. Es Claustre serà la propera ocasió per poder-los ballar! \nUna actuació que ens arriba a Menorca en una setmana enmarcada en ses Festes de Gràcia\, i que no us podeu perdre. \n  \nJoana Gomila teclats\, electrònica; Laia Vallès sintetitzadors\, efectes; Toni Llull programació rítmica\, loops; Simó Femenies guitarra\, veu; Roger Pistola baix.\, veu; Jorra Santiago veu\, guitarra \n 
URL:https://esclaustre.com/es/event/ranxera-takeshi/
LOCATION:Es Claustre\, Pati del Claustre del Carme\, 50\, Maó\, illes balears\, 07701
CATEGORIES:Agenda Menorca,SLIDE HOME
ATTACH;FMTTYPE=image/jpeg:https://esclaustre.com/wp-content/uploads/2025/07/ranxeratakeshi.jpeg
ORGANIZER;CN="ES CLAUSTRE":MAILTO:info@esclaustre.com
GEO:39.888632;4.266257
X-APPLE-STRUCTURED-LOCATION;VALUE=URI;X-ADDRESS=Es Claustre Pati del Claustre del Carme 50 Maó illes balears 07701;X-APPLE-RADIUS=500;X-TITLE=Pati del Claustre del Carme\, 50:geo:4.266257,39.888632
END:VEVENT
BEGIN:VEVENT
DTSTART;TZID=Europe/Madrid:20250905T210000
DTEND;TZID=Europe/Madrid:20250905T233000
DTSTAMP:20260424T034429
CREATED:20250323T165022Z
LAST-MODIFIED:20250324T152901Z
UID:10006819-1757106000-1757115000@esclaustre.com
SUMMARY:Iseo & Dodosound
DESCRIPTION:«Iseo & Dodosound»\, flotaran en el aire del Claustre\nSi para Iseo & Dodosound 2024 ha sido un año increíble\, 2025 promete aún más y mejores aventuras. Con la publicación de su cuarto álbum\, En la Tormenta\, la banda navarra ha confirmado que su gente esperaba con ganas un disco completamente en castellano y han cantado a pleno pulmón canciones como Cuando Salga el Sol\, la propia En la Tormenta o Como un Volcán  \n\n\nAl exitoso lanzamiento le ha seguido una extensa que gira que no solo les ha llevado a agotar aforos en las mejores salas del estado\, sino que\, han visitado México por primera vez\, colgando el cartel de ‘no hay entradas’ en dos fechas consecutivas en el prestigioso Lunario del Auditorio Nacional en Ciudad de México y también llevando la mejor vibración a la ciudad de Guadalajara. Bruselas y Londres\, entre muchas otras plazas\, también han sido testigos de excepción de un directo arrollador que este año vuelve con ganas de honrar como se merece los diez años\, se dice pronto\, de ‘Cat Platoon’\, el álbum debut de la banda\, la primera piedra en una carrera\, la del dúo navarro\, que les ha llevado a hacerse un hueco en el corazón de un público cada vez más numeroso e internacional. \n\n\nIseo & Dodosound nos visitan por tercera vez en Menorca y siempre en el escenario de Es Claustre\, donde son muy esperados y queridos\, sobretodo por mantener su sello inconfundible y la esencia del primer día.
URL:https://esclaustre.com/es/event/iseo-dodosound-2/
LOCATION:Es Claustre\, Pati del Claustre del Carme\, 50\, Maó\, illes balears\, 07701
CATEGORIES:Agenda Menorca,SLIDE HOME
ATTACH;FMTTYPE=image/jpeg:https://esclaustre.com/wp-content/uploads/2025/03/Iseo-Dodosound-.jpeg
ORGANIZER;CN="ES CLAUSTRE":MAILTO:info@esclaustre.com
GEO:39.888632;4.266257
X-APPLE-STRUCTURED-LOCATION;VALUE=URI;X-ADDRESS=Es Claustre Pati del Claustre del Carme 50 Maó illes balears 07701;X-APPLE-RADIUS=500;X-TITLE=Pati del Claustre del Carme\, 50:geo:4.266257,39.888632
END:VEVENT
BEGIN:VEVENT
DTSTART;TZID=UTC:20250906T210000
DTEND;TZID=UTC:20250906T233000
DTSTAMP:20260424T034429
CREATED:20250901T112520Z
LAST-MODIFIED:20250901T173915Z
UID:10007049-1757192400-1757201400@esclaustre.com
SUMMARY:Glosat al Claustre del Carme
DESCRIPTION:Nit de Glosat al Claustre amb «Soca de Mots»\n\n\n\nConvertit en tradició dins les festes de la Marededéu de Gràcia ens retrobarem com cada any Es Claustre amb les arrels a través del sentir de les festes de Joan Moll i companyia. \nL’associació Soca de Mots va ser creada l’any 1999 amb l’objectiu de recuperar divulgar el gènere de la poesia improvisada i formar nous glosadors entre la població més jove. \nLa feina dels membres de Soca de Mots per divulgar i preservar la glosa ha fet possible\, a més\, que la seva actual embranzida no respongui a l’interès per convertir en espectacle aquesta manifestació de la nostra cultura popular. És lloable la seva capacitat de modernització\, no en el sentit de canviar ritmes o estructures del glosar\, sinó en el sentit de fer-lo atractiu i viu\, per animar joves i no tan joves a introduir-se en un art que combina la música\, la paraula\, el diàleg i l’enginy a través dels cursos i tallers que promouen arreu de l’illa. Una generació de nous glosadors és\, sens dubte\, la millor garantia del seu futur. \nEl sentir de les festes de Gràcia per Es Claustre va lligat a la llengua i a la cultura popular. \n\n  \n*dibuix d’en Carles Moll
URL:https://esclaustre.com/es/event/glosat-al-claustre-del-carme/
LOCATION:Es Claustre\, Pati del Claustre del Carme\, 50\, Maó\, illes balears\, 07701
CATEGORIES:Agenda Menorca,Altres esdeveniments,Cultura,Festes i Tradicions
ATTACH;FMTTYPE=image/jpeg:https://esclaustre.com/wp-content/uploads/2018/08/Soca-de-Mots-e1607264386658.jpg
GEO:39.888632;4.266257
X-APPLE-STRUCTURED-LOCATION;VALUE=URI;X-ADDRESS=Es Claustre Pati del Claustre del Carme 50 Maó illes balears 07701;X-APPLE-RADIUS=500;X-TITLE=Pati del Claustre del Carme\, 50:geo:4.266257,39.888632
END:VEVENT
BEGIN:VEVENT
DTSTART;TZID=Europe/Madrid:20250906T230000
DTEND;TZID=Europe/Madrid:20250906T230000
DTSTAMP:20260424T034429
CREATED:20250901T141224Z
LAST-MODIFIED:20250901T141923Z
UID:10007053-1757199600-1757199600@esclaustre.com
SUMMARY:Diego Armando DJ
DESCRIPTION:«Diego Armando» de celebració per Menorca\nDiego Armando és l’alterego de Xavier Riembau\, un nom que el gran Mani de Primal Scream i Stone Roses li va posar ja fa més de 15 anys en un Sant Joan a la Costa Brava on van coincidir. Curtit en mil i una cabines de la ciutat comtal i rodalies: Powder Room (Apolo)\, La 2 de Nitsa\, Gusto aka Switch\, Maumau\, Ocaña\, Becool entre d’altres i en Festivals com Sónar\, Faraday\, Picnik Elektronik\, PopArb\, Van Van Market\, Mostra Sonora i Visual i Rock Circus (Itàlia) o el Bonnefooi (Brussel·les). Ha tingut el privilegi de compartir escenari amb Ike Turner\, Maceo Parker\, The Streets\, Mdou Moctar\, Mammane Sanni\, The Ex\, Fendika\, King Ayisoba i Zea\, Pascal Comelade o Raph Dumas…entre d’altres. \nLa seva especialitat és entendre que la música no sap de gèneres i que per fer ballar el personal és el més important. El podràs trobar la nit del pregó de dissabte dia 6 de setembre a les 23h en una sessió més de culte i a l’endemà diumenge 7 a les 18h de la tarda en una sessió col·lectiva i atrevidament festiva en la celebració a l’Electrogràcia.
URL:https://esclaustre.com/es/event/diego-armando-dj/
LOCATION:Es Claustre\, Pati del Claustre del Carme\, 50\, Maó\, illes balears\, 07701
CATEGORIES:Agenda Menorca,Altres esdeveniments
ATTACH;FMTTYPE=image/jpeg:https://esclaustre.com/wp-content/uploads/2025/09/DJ-Diego-Armando.jpeg
ORGANIZER;CN="ES CLAUSTRE":MAILTO:info@esclaustre.com
GEO:39.888632;4.266257
X-APPLE-STRUCTURED-LOCATION;VALUE=URI;X-ADDRESS=Es Claustre Pati del Claustre del Carme 50 Maó illes balears 07701;X-APPLE-RADIUS=500;X-TITLE=Pati del Claustre del Carme\, 50:geo:4.266257,39.888632
END:VEVENT
BEGIN:VEVENT
DTSTART;TZID=Europe/Madrid:20250907T180000
DTEND;TZID=Europe/Madrid:20250907T233000
DTSTAMP:20260424T034429
CREATED:20250901T175518Z
LAST-MODIFIED:20250901T180047Z
UID:10007056-1757268000-1757287800@esclaustre.com
SUMMARY:Electrogràcia 2025
DESCRIPTION:La nit infinita amb #Electrogràcia\nLes Festes de la Mare de Déu de Gràcia són l’excusa perfecta per ajuntar-nos i fer explotar el colofó final! \nLes festes de Maó\, l’esclat de final d’estiu\, la sort de poder allargar una setmana més el moment de la reentré\, uns dies de concerts especials\, d’amics i de fites que ja són nova tradició. Una setmana de festes que Es Claustre la tanquem amb l’Electrogràcia per on han passat dj’s de l’escena balear i pensinsular. \nUna cabina col·lectiva que enguany l’hem configutat d’aquesta manera: \nDIEGO ARMANDO / DADY SEVI / TERREMOTO MAMBO / BROTHER’S / LE NUIT / EBER / NOLOOP \n  \nBones Festes!!
URL:https://esclaustre.com/es/event/electrogracia-2025/
LOCATION:Es Claustre\, Pati del Claustre del Carme\, 50\, Maó\, illes balears\, 07701
CATEGORIES:Agenda Menorca,Altres esdeveniments
ATTACH;FMTTYPE=image/jpeg:https://esclaustre.com/wp-content/uploads/2025/09/Electrogracia_2025.jpeg
ORGANIZER;CN="ES CLAUSTRE":MAILTO:info@esclaustre.com
GEO:39.888632;4.266257
X-APPLE-STRUCTURED-LOCATION;VALUE=URI;X-ADDRESS=Es Claustre Pati del Claustre del Carme 50 Maó illes balears 07701;X-APPLE-RADIUS=500;X-TITLE=Pati del Claustre del Carme\, 50:geo:4.266257,39.888632
END:VEVENT
BEGIN:VEVENT
DTSTART;TZID=Europe/Madrid:20250912T210000
DTEND;TZID=Europe/Madrid:20250912T210000
DTSTAMP:20260424T034429
CREATED:20250806T141822Z
LAST-MODIFIED:20250806T145207Z
UID:10007044-1757710800-1757710800@esclaustre.com
SUMMARY:SANTIAGO SIERRA — LOLO & SOSAKU — ROGER PIBERNAT
DESCRIPTION:SANTIAGO SIERRA — LOLO & SOSAKU — ROGER PIBERNAT\nPerformance colaborativa de Santiago Sierra\, Lolo & Sosaku y Roger Pibernat\, tres prácticas artísticas que confluyen en un formato de estimulación perceptiva\, visual y sonora\, para explorar nuevas formas de experiencia y estados de consciencia expandida. \nSantiago Sierra es uno de los artistas conceptuales españoles más incisivos\, reconocido por obras provocadoras que exploran las estructuras sociopolíticas del capitalismo y evidencian la injusticia y los abusos de poder a través del uso deliberadamente incómodo de personas anónimas. Representó a España en la 50ª Bienal de Venecia con una instalación que impedía la entrada al público según la nacionalidad y rechazó el Premio Nacional de Artes Plásticas para evitar la instrumentalización estatal de su obra. \nLolo & Sosaku fusionan sonido\, escultura\, instalación y performance. Sus artefactos sonoros combinan instrumentos musicales modificados\, materiales industriales y motores que los hacen autónomos e impredecibles. El azar y la tensión entre caos y control son elementos centrales de su trabajo\, que cuestiona qué entendemos por instrumento\, obra y creador a través de movimientos bruscos\, ruido y ritmos irregulares. \nRoger Pibernat es ilustrador\, animador\, músico y artista tecnológico. Fue miembro de la Barcelona Laptop Orchestra de la ESMUC y es cofundador de los colectivos Wú y Axolot. Ha desarrollado el lenguaje de live coding Živa y ha colaborado en TidalCycles con Superfm. Con Glen Fraser\, ha desarrollado el software Animatron\, con el que la animación se convierte en arte performativo de improvisación improvisada. \nComisariado y producido por Oriol Caba\, que trabaja en la intersección de arte\, cultura e insurgencias con el objetivo de provocar tensión\, emociones\, reflexión y debate. \nUna producción de Les antípodes en colaboración con Es Claustre y el soporte de la Generalitat de Catalunya y el Ayuntamiento de Agullana. \n  \n  \n\n 
URL:https://esclaustre.com/es/event/santiago-sierra-lolo-sosaku-roger-pibernat/
LOCATION:Es Claustre\, Pati del Claustre del Carme\, 50\, Maó\, illes balears\, 07701
CATEGORIES:Agenda Menorca,Altres esdeveniments
ATTACH;FMTTYPE=image/jpeg:https://esclaustre.com/wp-content/uploads/2025/08/Santiago_Sierra_AJORNAT-copia.jpeg
ORGANIZER;CN="ES CLAUSTRE":MAILTO:info@esclaustre.com
GEO:39.888632;4.266257
X-APPLE-STRUCTURED-LOCATION;VALUE=URI;X-ADDRESS=Es Claustre Pati del Claustre del Carme 50 Maó illes balears 07701;X-APPLE-RADIUS=500;X-TITLE=Pati del Claustre del Carme\, 50:geo:4.266257,39.888632
END:VEVENT
BEGIN:VEVENT
DTSTART;TZID=Europe/Madrid:20250913T210000
DTEND;TZID=Europe/Madrid:20250913T210000
DTSTAMP:20260424T034429
CREATED:20250626T094008Z
LAST-MODIFIED:20250626T101702Z
UID:10007029-1757797200-1757797200@esclaustre.com
SUMMARY:Yaíma Orozco
DESCRIPTION:«Yaíma Orozco»\, una voz de la tradición trovadoresca cubana\nCon unas canciones tremendamente cautivadoras\, la música de Yaíma Orozco bebe del son y el filin cubanos\, de la guajira\, el bolero\, la habanera\, el tango\, la bossa nova\, de lo más profundo y popular de la tradición trovadoresca pero también del rock. \nNacida en Santa Clara (Cuba) en 1980\, sus composiciones la han llevado a países como Argentina\, Uruguay\, Chile\, Venezuela\, México\, Francia\, Portugal\, Bélgica o Suiza. En Menorca en el escenario de Es Claustre se presenta en formato trío junto a los músicos de jazz Juan Pablo Blacazar (contrabajista) y Dani Pérez (guitarrista). \n\n\n\n\n\n\nCompositora\, cantante y guitarrista cubana\, Yaíma Orozco es una de las trobadoras más destacadas de su generación.\n\n\n\n\nHa recorrido con su música multitud de países tanto de América Latina como de Europa\, compartiendo escenario con figuras como Silvio Rodríguez\, Teresa Parodi o Roly Berrio entre otras.
URL:https://esclaustre.com/es/event/yaima-orozco/
LOCATION:Es Claustre\, Pati del Claustre del Carme\, 50\, Maó\, illes balears\, 07701
CATEGORIES:Agenda Menorca,SLIDE HOME
ATTACH;FMTTYPE=image/jpeg:https://esclaustre.com/wp-content/uploads/2025/06/Yaima_Orozco.jpeg
ORGANIZER;CN="ES CLAUSTRE":MAILTO:info@esclaustre.com
GEO:39.888632;4.266257
X-APPLE-STRUCTURED-LOCATION;VALUE=URI;X-ADDRESS=Es Claustre Pati del Claustre del Carme 50 Maó illes balears 07701;X-APPLE-RADIUS=500;X-TITLE=Pati del Claustre del Carme\, 50:geo:4.266257,39.888632
END:VEVENT
BEGIN:VEVENT
DTSTART;TZID=Europe/Madrid:20250919T210000
DTEND;TZID=Europe/Madrid:20250919T210000
DTSTAMP:20260424T034429
CREATED:20250904T190652Z
LAST-MODIFIED:20250915T190512Z
UID:10007059-1758315600-1758315600@esclaustre.com
SUMMARY:Lo Barber de l’Alguer
DESCRIPTION:«Lo Barber de l’Alguer» a Maó\nAmb motiu dels seus 80 anys\, l’icònic Àngel Maresca — Lo Barber de l’Alguer— torna als escenaris per compartir amb el públic la seva trajectòria musical. Acompanyat pel cantautor i compositor Claudio Gabriel Sanna\, presenta el disc Retrobament\, un homenatge i un record per al succeït el 1960 (any en què Pere Català i Roca i el seu pare van promoure el creuer del retrobament entre Barcelona i l’Alguer) i que recull una selecció significativa del repertori del Barber. \nÀngel Maresca\, conegut com Lo Barber de l’Alguer\, és un cantautor\, cantant i guitarrista alguerès. Especialitzat en la música d’arrel i la tradició oral\, Maresca és conegut per la seva tasca com a barber\, on combina els serveis de perruqueria amb la música en viu. És un dels activistes més destacats per la llengua i la cultura catalanes a l’Alguer\, mantenint viva la tradició musical en la seva barberia i contribuint significativament a la cultura local amb les seves cançons i composicions. Una tradició on l’Àngel Maresca n’és l’últim representat. \nAquest concert és també una celebració de la cultura i la llengua catalana a l’Alguer\, un homenatge a la memòria compartida i un pont entre tradicions que uneixen l’Alguer amb la resta de territoris de parla catalana. \nUna ocasió especial per reviure l’essència del Barber a l’escenari maonès d’Es Claustre i reconèixer la seva aportació a la música i a la cultura popular. \n 
URL:https://esclaustre.com/es/event/lo-barber-de-lalguer/
LOCATION:Es Claustre\, Pati del Claustre del Carme\, 50\, Maó\, illes balears\, 07701
CATEGORIES:Agenda Menorca,SLIDE HOME
ATTACH;FMTTYPE=image/jpeg:https://esclaustre.com/wp-content/uploads/2025/09/Lo-Barber-i-Claudio-Gabriel-.jpeg
ORGANIZER;CN="ES CLAUSTRE":MAILTO:info@esclaustre.com
GEO:39.888632;4.266257
X-APPLE-STRUCTURED-LOCATION;VALUE=URI;X-ADDRESS=Es Claustre Pati del Claustre del Carme 50 Maó illes balears 07701;X-APPLE-RADIUS=500;X-TITLE=Pati del Claustre del Carme\, 50:geo:4.266257,39.888632
END:VEVENT
BEGIN:VEVENT
DTSTART;TZID=Europe/Madrid:20250920T120000
DTEND;TZID=Europe/Madrid:20250920T233000
DTSTAMP:20260424T034429
CREATED:20250915T083104Z
LAST-MODIFIED:20250916T080400Z
UID:10007071-1758369600-1758411000@esclaustre.com
SUMMARY:Menorca Groove
DESCRIPTION:«Menorca Groove»: inunda Es Claustre durant tot un dia\nEl Menorca Groove en aquesta novena edició es transforma amb una jornada completa de Dj sets! Durant tot un matí\, tarda i capvespre ens visiten una combinació de dj’s per mostrar-nos una àmplia representació de sons del món. \nMatí\, tarda i nit amb el grandíssim Toribio ( New York\, Public Service)\, Guille de Juan ( Barcelona\, Curtis Audiphile)\, Golfo de Guinea ( Barcelona\, Barcelona City Records)\, juntament amb els estimats djs de l’illa Sista Bea i Marco Herbert. \nUn dia per fer comunitat groovy i seguir ballant junts! \nEls ajustos d’aquest any es deuen a raons familiars\, però només serà un format efímer a les portes de la celebració dels deu anys de vida del Menorca Groove. Prepareu-vos per ara\, prepareu-vos pel futur! \n  \n🎟️ Amb entrada gratuïta!\n📌 Es Claustre\, Maó • 20/09/25 de 12 pm a 3 am \n  \n \n 
URL:https://esclaustre.com/es/event/menorca-groove-2025/
LOCATION:Es Claustre\, Pati del Claustre del Carme\, 50\, Maó\, illes balears\, 07701
CATEGORIES:Agenda Menorca,SLIDE HOME
ATTACH;FMTTYPE=image/jpeg:https://esclaustre.com/wp-content/uploads/2025/09/Toribio.jpg
ORGANIZER;CN="ES CLAUSTRE":MAILTO:info@esclaustre.com
GEO:39.888632;4.266257
X-APPLE-STRUCTURED-LOCATION;VALUE=URI;X-ADDRESS=Es Claustre Pati del Claustre del Carme 50 Maó illes balears 07701;X-APPLE-RADIUS=500;X-TITLE=Pati del Claustre del Carme\, 50:geo:4.266257,39.888632
END:VEVENT
BEGIN:VEVENT
DTSTART;TZID=Europe/Madrid:20250928T123000
DTEND;TZID=Europe/Madrid:20250928T150000
DTSTAMP:20260424T034429
CREATED:20250910T092022Z
LAST-MODIFIED:20250910T093015Z
UID:10007068-1759062600-1759071600@esclaustre.com
SUMMARY:Aura i Biel
DESCRIPTION:«Aura i Biel»\, un equilibri entre tendresa i força.\nAura i Biel és el duet format per la cantant Aura Mauri i el pianista Biel Harper. La seva música\, d’una sonoritat mediterrània i  influenciada per la llibertat improvisativa del jazz\, dissol els marges estilístics en  una envolvent i singular interpretació. \n\nDesprés del seu àlbum debut\, Instants (2022)\, a la primavera publicaran el seu segon disc\, que porta noves cançons bellament amalgamades per la seva música essencialment poètica.\n\nDesprés de dos anys compartint recorregut per escenaris com l’Auditori de Vilafranca\, el Terrat de la Pedrera\, Street Jazz Palafrugell\, Zona Jazz\, Jamboree i el seu pas com a finalistes al concurs de Juventudes Musicales de España 2022\, aquest duet es va consolidar amb el seu disc debut\, “Instants”\, en el qual van cristal·litzar la seva simbiosi creativa i vital a través de sis temes originals\, una improvisació i cinc versions. Des d’aleshores han seguit compartint la seva música arreu d’Espanya\, ja sigui amb el repertori del disc o amb les seves noves composicions i interpretacions. \nInstants és una invitació al món subtil on ens redescobrim cada cop que toquem junts; un imaginari vitalment creatiu que desitja ser compartit.
URL:https://esclaustre.com/es/event/aura-i-biel/
LOCATION:Hauser & Wirth\, illa del rei\, Maó\, illes balears\, Espanya
CATEGORIES:Agenda Menorca,Altres esdeveniments
ATTACH;FMTTYPE=image/jpeg:https://esclaustre.com/wp-content/uploads/2025/09/Aura-i-Biel.jpeg
ORGANIZER;CN="ES CLAUSTRE":MAILTO:info@esclaustre.com
END:VEVENT
END:VCALENDAR